BEGIN_USGS_DOQ_HEADER *
QUADRANGLE_NAME "TAHOE CITY" 3.45 or 7.5-min. name*
QUADRANT SW quadrant indicator if cell size = 3.75-minutes*
WEST_LONGITUDE -120 15 0.000 signed deg min sec SDDD MM SS.SSS*
EAST_LONGITUDE -120 11 15.000 signed deg min sec SDDD MM SS.SSS*
NORTH_LATITUDE 39 11 15.000 signed deg min sec SDDD MM SS.SSS*
SOUTH_LATITUDE 39 7 30.000 signed deg min sec SDDD MM SS.SSS*
PRODUCTION_DATE 2000 4 17 yyyy mm dd*
RASTER_ORDER LEFT_RIGHT/TOP_BOTTOM video display order*
BAND_ORGANIZATION "SINGLE FILE" single file or BSQ, or BIL or BIP*
BAND_CONTENT BLACK&WHITE black&white or red green blue*
BITS_PER_PIXEL 8 radiometric resolution*
SAMPLES_AND_LINES 6304 7719 number of columns and rows*
HORIZONTAL_DATUM NAD83 primary horizontal datum*
HORIZONTAL_COORDINATE_SYSTEM UTM *
COORDINATE_ZONE 10 coordinate system zone number*
HORIZONTAL_UNITS METERS coordinate system units*
HORIZONTAL_RESOLUTION 1.00 pixel horiz. ground sample distance*
SECONDARY_HORIZONTAL_DATUM NAD27 secondary horizontal datum*
XY_ORIGIN 737127.000 4341654.000 coord. of upper left pixel pri. datum*
SECONDARY_XY_ORIGIN 737221.705 4341458.797 coord upper left pixel sec datum*
NATION US nation code*
STATE CA state fip code*
STATE NV state fip code*
NW_QUAD_CORNER_XY 737516.132 4341187.119 XY coords. of pri. NW quad corner*
NE_QUAD_CORNER_XY 742915.098 4341352.846 XY coords. of pri. NE quad corner*
SE_QUAD_CORNER_XY 743130.307 4334415.258 XY coords. of pri. SE quad corner*
SW_QUAD_CORNER_XY 737726.549 4334249.606 XY coords. of pri. SW quad corner*
SECONDARY_NW_QUAD_XY 737522.250 4340978.844 XY coords. - sec. NW quad cor.*
SECONDARY_NE_QUAD_XY 742921.355 4341144.575 XY coords. - sec. NE quad cor.*
SECONDARY_SE_QUAD_XY 743136.560 4334207.121 XY coords. - sec. SE quad cor.*
SECONDARY_SW_QUAD_XY 737732.663 4334041.465 XY coords. - sec. SW quad cor.*
RMSE_XY 3.20 doq horiz. accuracy*
IMAGE_SOURCE "BLACK AND WHITE FILM" b&w, cir, natural color, other*
SOURCE_IMAGE_ID "NAPP 10555 12" source image id*
SOURCE_IMAGE_DATE 1998 8 26 source image date as yyyy mm dd*
SOURCE_DEM_DATE 1992 0 00 source dem date yyyy mm dd*
AGENCY "WESTERN MAPPING CENTER (WMC)" oversight agency*
PRODUCER "WESTERN MAPPING CENTER (WMC)" *
PRODUCTION_SYSTEM "DV2.6.3 10/9OV2.4 5/95" production system*
STANDARD_VERSION 1996 12 version of DOQ standard*
METADATA_DATE 2000 4 17 date created or changed, yyyy mm dd*
DATA_FILE_SIZE 48666880 data set size in bytes*
BYTE_COUNT 6304 header byte count* * * * * * * * * * * * * * * * * * * * * * * * * * * * * * * * * * *
END_USGS_HEADER *
