BEGIN_USGS_DOQ_HEADER *
QUADRANGLE_NAME "DUNCAN PEAK" 3.45 or 7.5-min. name*
QUADRANT SE quadrant indicator if cell size = 3.75-minutes*
WEST_LONGITUDE -120 33 45.000 signed deg min sec SDDD MM SS.SSS*
EAST_LONGITUDE -120 30 0.000 signed deg min sec SDDD MM SS.SSS*
NORTH_LATITUDE 39 11 15.000 signed deg min sec SDDD MM SS.SSS*
SOUTH_LATITUDE 39 7 30.000 signed deg min sec SDDD MM SS.SSS*
PRODUCTION_DATE 2000 11 22 yyyy mm dd*
RASTER_ORDER LEFT_RIGHT/TOP_BOTTOM video display order*
BAND_ORGANIZATION "SINGLE FILE" single file or BSQ, or BIL or BIP*
BAND_CONTENT BLACK&WHITE black&white or red green blue*
BITS_PER_PIXEL 8 radiometric resolution*
SAMPLES_AND_LINES 6283 7700 number of columns and rows*
HORIZONTAL_DATUM NAD83 primary horizontal datum*
HORIZONTAL_COORDINATE_SYSTEM UTM *
COORDINATE_ZONE 10 coordinate system zone number*
HORIZONTAL_UNITS METERS coordinate system units*
HORIZONTAL_RESOLUTION 1.00 pixel horiz. ground sample distance*
SECONDARY_HORIZONTAL_DATUM NAD27 secondary horizontal datum*
XY_ORIGIN 710131.000 4340862.000 coord. of upper left pixel pri. datum*
SECONDARY_XY_ORIGIN 710225.891 4340666.914 coord upper left pixel sec datum*
NATION US nation code*
STATE CA state fip code*
NW_QUAD_CORNER_XY 710522.137 4340414.449 XY coords. of pri. NW quad corner*
NE_QUAD_CORNER_XY 715920.829 4340561.523 XY coords. of pri. NE quad corner*
SE_QUAD_CORNER_XY 716112.084 4333624.293 XY coords. of pri. SE quad corner*
SW_QUAD_CORNER_XY 710708.603 4333477.286 XY coords. of pri. SW quad corner*
SECONDARY_NW_QUAD_XY 710527.560 4340206.154 XY coords. - sec. NW quad cor.*
SECONDARY_NE_QUAD_XY 715926.391 4340353.231 XY coords. - sec. NE quad cor.*
SECONDARY_SE_QUAD_XY 716117.642 4333416.135 XY coords. - sec. SE quad cor.*
SECONDARY_SW_QUAD_XY 710714.022 4333269.125 XY coords. - sec. SW quad cor.*
RMSE_XY 2.80 doq horiz. accuracy*
IMAGE_SOURCE "BLACK AND WHITE FILM" b&w, cir, natural color, other*
SOURCE_IMAGE_ID "NAPP 10557 146" source image id*
SOURCE_IMAGE_DATE 1998 08 29 source image date as yyyy mm dd*
SOURCE_IMAGE_ID "NAPP 10546 180" source image id*
SOURCE_IMAGE_DATE 1998 08 15 source image date as yyyy mm dd*
SOURCE_IMAGE_ID "NAPP 10546 178" source image id*
SOURCE_IMAGE_DATE 1998 08 15 source image date as yyyy mm dd*
SOURCE_IMAGE_ID "NAPP 10557 145" source image id*
SOURCE_IMAGE_DATE 1998 08 29 source image date as yyyy mm dd*
SOURCE_IMAGE_ID "NAPP 10557 176" source image id*
SOURCE_IMAGE_DATE 1998 08 29 source image date as yyyy mm dd*
SOURCE_DEM_DATE 2000 01 01 source dem date yyyy mm dd*
AGENCY "WESTERN MAPPING CENTER (WMC)" oversight agency*
PRODUCER "SCIENCE APPLICATIONS INTERNATIONAL" producer/contractor*
PRODUCTION_SYSTEM "GIS/MAGIC" production system*
STANDARD_VERSION 1996 12 version of DOQ standard*
METADATA_DATE 2000 12 01 date created or changed, yyyy mm dd*
DATA_FILE_SIZE 48385383 data set size in bytes*
BYTE_COUNT 6283 header byte count* * * * * * * * * * * * * * * * * * * * * * * * * * * *
END_USGS_HEADER *
