BEGIN_USGS_DOQ_HEADER *
QUADRANGLE_NAME "SODA SPRINGS" 3.45 or 7.5-min. name*
QUADRANT SW quadrant indicator if cell size = 3.75-minutes*
WEST_LONGITUDE -120 30 0.000 signed deg min sec SDDD MM SS.SSS*
EAST_LONGITUDE -120 26 15.000 signed deg min sec SDDD MM SS.SSS*
NORTH_LATITUDE 39 18 45.000 signed deg min sec SDDD MM SS.SSS*
SOUTH_LATITUDE 39 15 0.000 signed deg min sec SDDD MM SS.SSS*
PRODUCTION_DATE 2000 11 28 yyyy mm dd*
RASTER_ORDER LEFT_RIGHT/TOP_BOTTOM video display order*
BAND_ORGANIZATION "SINGLE FILE" single file or BSQ, or BIL or BIP*
BAND_CONTENT BLACK&WHITE black&white or red green blue*
BITS_PER_PIXEL 8 radiometric resolution*
SAMPLES_AND_LINES 6278 7705 number of columns and rows*
HORIZONTAL_DATUM NAD83 primary horizontal datum*
HORIZONTAL_COORDINATE_SYSTEM UTM *
COORDINATE_ZONE 10 coordinate system zone number*
HORIZONTAL_UNITS METERS coordinate system units*
HORIZONTAL_RESOLUTION 1.00 pixel horiz. ground sample distance*
SECONDARY_HORIZONTAL_DATUM NAD27 secondary horizontal datum*
XY_ORIGIN 715147.000 4354888.000 coord. of upper left pixel pri. datum*
SECONDARY_XY_ORIGIN 715241.900 4354692.681 coord upper left pixel sec datum*
NATION US nation code*
STATE CA state fip code*
NW_QUAD_CORNER_XY 715537.548 4354436.163 XY coords. of pri. NW quad corner*
NE_QUAD_CORNER_XY 720926.693 4354587.101 XY coords. of pri. NE quad corner*
SE_QUAD_CORNER_XY 721123.265 4347649.684 XY coords. of pri. SE quad corner*
SW_QUAD_CORNER_XY 715729.317 4347498.813 XY coords. of pri. SW quad corner*
SECONDARY_NW_QUAD_XY 715543.116 4354227.606 XY coords. - sec. NW quad cor.*
SECONDARY_NE_QUAD_XY 720932.401 4354378.548 XY coords. - sec. NE quad cor.*
SECONDARY_SE_QUAD_XY 721128.970 4347441.263 XY coords. - sec. SE quad cor.*
SECONDARY_SW_QUAD_XY 715734.882 4347290.388 XY coords. - sec. SW quad cor.*
RMSE_XY 2.10 doq horiz. accuracy*
IMAGE_SOURCE "BLACK AND WHITE FILM" b&w, cir, natural color, other*
SOURCE_IMAGE_ID "NAPP 10557 179" source image id*
SOURCE_IMAGE_DATE 1998 08 29 source image date as yyyy mm dd*
SOURCE_IMAGE_ID "NAPP 10557 143" source image id*
SOURCE_IMAGE_DATE 1998 08 29 source image date as yyyy mm dd*
SOURCE_IMAGE_ID "NAPP 10557 178" source image id*
SOURCE_IMAGE_DATE 1998 08 29 source image date as yyyy mm dd*
SOURCE_IMAGE_ID "NAPP 10557 180" source image id*
SOURCE_IMAGE_DATE 1998 08 29 source image date as yyyy mm dd*
SOURCE_IMAGE_ID "NAPP 10557 125" source image id*
SOURCE_IMAGE_DATE 1998 08 29 source image date as yyyy mm dd*
SOURCE_IMAGE_ID "NAPP 10557 124" source image id*
SOURCE_IMAGE_DATE 1998 08 29 source image date as yyyy mm dd*
SOURCE_DEM_DATE 2000 01 01 source dem date yyyy mm dd*
AGENCY "WESTERN MAPPING CENTER (WMC)" oversight agency*
PRODUCER "SCIENCE APPLICATIONS INTERNATIONAL" producer/contractor*
PRODUCTION_SYSTEM "GIS/MAGIC" production system*
STANDARD_VERSION 1996 12 version of DOQ standard*
METADATA_DATE 2000 12 01 date created or changed, yyyy mm dd*
DATA_FILE_SIZE 48378268 data set size in bytes*
BYTE_COUNT 6278 header byte count* * * * * * * * * * * * * * * * * * * * * * * * * *
END_USGS_HEADER *
