BEGIN_USGS_DOQ_HEADER *
QUADRANGLE_NAME "NORTH BLOOMFIELD" 3.45 or 7.5-min. name*
QUADRANT SW quadrant indicator if cell size = 3.75-minutes*
WEST_LONGITUDE -121 0 0.000 signed deg min sec SDDD MM SS.SSS*
EAST_LONGITUDE -120 56 15.000 signed deg min sec SDDD MM SS.SSS*
NORTH_LATITUDE 39 18 45.000 signed deg min sec SDDD MM SS.SSS*
SOUTH_LATITUDE 39 15 0.000 signed deg min sec SDDD MM SS.SSS*
PRODUCTION_DATE 2000 10 5 yyyy mm dd*
RASTER_ORDER LEFT_RIGHT/TOP_BOTTOM video display order*
BAND_ORGANIZATION "SINGLE FILE" single file or BSQ, or BIL or BIP*
BAND_CONTENT BLACK&WHITE black&white or red green blue*
BITS_PER_PIXEL 8 radiometric resolution*
SAMPLES_AND_LINES 6242 7675 number of columns and rows*
HORIZONTAL_DATUM NAD83 primary horizontal datum*
HORIZONTAL_COORDINATE_SYSTEM UTM *
COORDINATE_ZONE 10 coordinate system zone number*
HORIZONTAL_UNITS METERS coordinate system units*
HORIZONTAL_RESOLUTION 1.00 pixel horiz. ground sample distance*
SECONDARY_HORIZONTAL_DATUM NAD27 secondary horizontal datum*
XY_ORIGIN 672033.000 4353785.000 coord. of upper left pixel pri. datum*
SECONDARY_XY_ORIGIN 672128.610 4353590.247 coord upper left pixel sec datum*
NATION US nation code*
STATE CA state fip code*
NW_QUAD_CORNER_XY 672426.113 4353363.011 XY coords. of pri. NW quad corner*
NE_QUAD_CORNER_XY 677814.886 4353484.097 XY coords. of pri. NE quad corner*
SE_QUAD_CORNER_XY 677973.054 4346547.169 XY coords. of pri. SE quad corner*
SW_QUAD_CORNER_XY 672579.483 4346426.136 XY coords. of pri. SW quad corner*
SECONDARY_NW_QUAD_XY 672430.568 4353154.426 XY coords. - sec. NW quad cor.*
SECONDARY_NE_QUAD_XY 677819.480 4353275.515 XY coords. - sec. NE quad cor.*
SECONDARY_SE_QUAD_XY 677977.645 4346338.719 XY coords. - sec. SE quad cor.*
SECONDARY_SW_QUAD_XY 672583.935 4346217.684 XY coords. - sec. SW quad cor.*
RMSE_XY 3.40 doq horiz. accuracy*
IMAGE_SOURCE "BLACK AND WHITE FILM" b&w, cir, natural color, other*
SOURCE_IMAGE_ID "NAPP 10533 051" source image id*
SOURCE_IMAGE_DATE 1998 08 29 source image date as yyyy mm dd*
SOURCE_IMAGE_ID "NAPP 10521 091" source image id*
SOURCE_IMAGE_DATE 1998 08 16 source image date as yyyy mm dd*
SOURCE_IMAGE_ID "NAPP 10533 052" source image id*
SOURCE_IMAGE_DATE 1998 08 29 source image date as yyyy mm dd*
SOURCE_IMAGE_ID "NAPP 10533 050" source image id*
SOURCE_IMAGE_DATE 1998 08 29 source image date as yyyy mm dd*
SOURCE_DEM_DATE 2000 01 01 source dem date yyyy mm dd*
AGENCY "WESTERN MAPPING CENTER (WMC)" oversight agency*
PRODUCER "SCIENCE APPLICATIONS INTERNATIONAL" producer/contractor*
PRODUCTION_SYSTEM "GIS/MAGIC" production system*
STANDARD_VERSION 1996 12 version of DOQ standard*
METADATA_DATE 2000 12 01 date created or changed, yyyy mm dd*
DATA_FILE_SIZE 47913592 data set size in bytes*
BYTE_COUNT 6242 header byte count* * * * * * * * * * * * * * * * * * * * * * * * * * * * * *
END_USGS_HEADER *
