BEGIN_USGS_DOQ_HEADER *
QUADRANGLE_NAME "DOG VALLEY" 3.45 or 7.5-min. name*
QUADRANT NW quadrant indicator if cell size = 3.75-minutes*
WEST_LONGITUDE -120 7 30.000 signed deg min sec SDDD MM SS.SSS*
EAST_LONGITUDE -120 3 45.000 signed deg min sec SDDD MM SS.SSS*
NORTH_LATITUDE 39 37 30.000 signed deg min sec SDDD MM SS.SSS*
SOUTH_LATITUDE 39 33 45.000 signed deg min sec SDDD MM SS.SSS*
PRODUCTION_DATE 2000 12 8 yyyy mm dd*
RASTER_ORDER LEFT_RIGHT/TOP_BOTTOM video display order*
BAND_ORGANIZATION "SINGLE FILE" single file or BSQ, or BIL or BIP*
BAND_CONTENT BLACK&WHITE black&white or red green blue*
BITS_PER_PIXEL 8 radiometric resolution*
SAMPLES_AND_LINES 6284 7728 number of columns and rows*
HORIZONTAL_DATUM NAD83 primary horizontal datum*
HORIZONTAL_COORDINATE_SYSTEM UTM *
COORDINATE_ZONE 10 coordinate system zone number*
HORIZONTAL_UNITS METERS coordinate system units*
HORIZONTAL_RESOLUTION 1.00 pixel horiz. ground sample distance*
SECONDARY_HORIZONTAL_DATUM NAD27 secondary horizontal datum*
XY_ORIGIN 746376.000 4390562.000 coord. of upper left pixel pri. datum*
SECONDARY_XY_ORIGIN 746471.001 4390366.029 coord upper left pixel sec datum*
NATION US nation code*
STATE CA state fip code*
NW_QUAD_CORNER_XY 746765.826 4390087.520 XY coords. of pri. NW quad corner*
NE_QUAD_CORNER_XY 752131.176 4390261.237 XY coords. of pri. NE quad corner*
SE_QUAD_CORNER_XY 752358.086 4383323.108 XY coords. of pri. SE quad corner*
SW_QUAD_CORNER_XY 746987.897 4383149.464 XY coords. of pri. SW quad corner*
SECONDARY_NW_QUAD_XY 746772.252 4389878.338 XY coords. - sec. NW quad cor.*
SECONDARY_NE_QUAD_XY 752137.742 4390052.059 XY coords. - sec. NE quad cor.*
SECONDARY_SE_QUAD_XY 752364.647 4383114.059 XY coords. - sec. SE quad cor.*
SECONDARY_SW_QUAD_XY 746994.319 4382940.411 XY coords. - sec. SW quad cor.*
RMSE_XY 1.10 doq horiz. accuracy*
IMAGE_SOURCE "BLACK AND WHITE FILM" b&w, cir, natural color, other*
SOURCE_IMAGE_ID "NAPP 10511 170" source image id*
SOURCE_IMAGE_DATE 1999 09 26 source image date as yyyy mm dd*
SOURCE_IMAGE_ID "NAPP 10511 162" source image id*
SOURCE_IMAGE_DATE 1999 09 26 source image date as yyyy mm dd*
SOURCE_IMAGE_ID "NAPP 10511 169" source image id*
SOURCE_IMAGE_DATE 1999 09 26 source image date as yyyy mm dd*
SOURCE_IMAGE_ID "NAPP 10511 171" source image id*
SOURCE_IMAGE_DATE 1999 09 26 source image date as yyyy mm dd*
SOURCE_DEM_DATE 1981 00 00 source dem date yyyy mm dd*
AGENCY "WESTERN MAPPING CENTER (WMC)" oversight agency*
PRODUCER "SCIENCE APPLICATIONS INTERNATIONAL" producer/contractor*
PRODUCTION_SYSTEM "GIS/MAGIC" production system*
STANDARD_VERSION 1996 12 version of DOQ standard*
METADATA_DATE 2000 12 13 date created or changed, yyyy mm dd*
DATA_FILE_SIZE 48569036 data set size in bytes*
BYTE_COUNT 6284 header byte count* * * * * * * * * * * * * * * * * * * * * * * * * * * * * *
END_USGS_HEADER *
