BEGIN_USGS_DOQ_HEADER *
QUADRANGLE_NAME "SIERRAVILLE" 3.45 or 7.5-min. name*
QUADRANT SW quadrant indicator if cell size = 3.75-minutes*
WEST_LONGITUDE -120 22 30.000 signed deg min sec SDDD MM SS.SSS*
EAST_LONGITUDE -120 18 45.000 signed deg min sec SDDD MM SS.SSS*
NORTH_LATITUDE 39 33 45.000 signed deg min sec SDDD MM SS.SSS*
SOUTH_LATITUDE 39 30 0.000 signed deg min sec SDDD MM SS.SSS*
PRODUCTION_DATE 2000 11 17 yyyy mm dd*
RASTER_ORDER LEFT_RIGHT/TOP_BOTTOM video display order*
BAND_ORGANIZATION "SINGLE FILE" single file or BSQ, or BIL or BIP*
BAND_CONTENT BLACK&WHITE black&white or red green blue*
BITS_PER_PIXEL 8 radiometric resolution*
SAMPLES_AND_LINES 6269 7712 number of columns and rows*
HORIZONTAL_DATUM NAD83 primary horizontal datum*
HORIZONTAL_COORDINATE_SYSTEM UTM *
COORDINATE_ZONE 10 coordinate system zone number*
HORIZONTAL_UNITS METERS coordinate system units*
HORIZONTAL_RESOLUTION 1.00 pixel horiz. ground sample distance*
SECONDARY_HORIZONTAL_DATUM NAD27 secondary horizontal datum*
XY_ORIGIN 725117.000 4382951.000 coord. of upper left pixel pri. datum*
SECONDARY_XY_ORIGIN 725211.994 4382755.253 coord upper left pixel sec datum*
NATION US nation code*
STATE CA state fip code*
NW_QUAD_CORNER_XY 725507.690 4382492.306 XY coords. of pri. NW quad corner*
NE_QUAD_CORNER_XY 730877.662 4382650.984 XY coords. of pri. NE quad corner*
SE_QUAD_CORNER_XY 731084.946 4375713.195 XY coords. of pri. SE quad corner*
SW_QUAD_CORNER_XY 725710.145 4375554.584 XY coords. of pri. SW quad corner*
SECONDARY_NW_QUAD_XY 725513.553 4382283.235 XY coords. - sec. NW quad cor.*
SECONDARY_NE_QUAD_XY 730883.665 4382441.917 XY coords. - sec. NE quad cor.*
SECONDARY_SE_QUAD_XY 731090.945 4375504.257 XY coords. - sec. SE quad cor.*
SECONDARY_SW_QUAD_XY 725716.004 4375345.642 XY coords. - sec. SW quad cor.*
RMSE_XY 2.10 doq horiz. accuracy*
IMAGE_SOURCE "BLACK AND WHITE FILM" b&w, cir, natural color, other*
SOURCE_IMAGE_ID "NAPP 10510 003" source image id*
SOURCE_IMAGE_DATE 1998 09 14 source image date as yyyy mm dd*
SOURCE_IMAGE_ID "NAPP 10510 004" source image id*
SOURCE_IMAGE_DATE 1998 09 14 source image date as yyyy mm dd*
SOURCE_DEM_DATE 2000 01 01 source dem date yyyy mm dd*
AGENCY "WESTERN MAPPING CENTER (WMC)" oversight agency*
PRODUCER "SCIENCE APPLICATIONS INTERNATIONAL" producer/contractor*
PRODUCTION_SYSTEM "GIS/MAGIC" production system*
STANDARD_VERSION 1996 12 version of DOQ standard*
METADATA_DATE 2000 12 04 date created or changed, yyyy mm dd*
DATA_FILE_SIZE 48352797 data set size in bytes*
BYTE_COUNT 6269 header byte count* * * * * * * * * * * * * * * * * * * * * * * * * * * * * * * * * *
END_USGS_HEADER *
