BEGIN_USGS_DOQ_HEADER *
QUADRANGLE_NAME "SIERRA CITY" 3.45 or 7.5-min. name*
QUADRANT SE quadrant indicator if cell size = 3.75-minutes*
WEST_LONGITUDE -120 41 15.000 signed deg min sec SDDD MM SS.SSS*
EAST_LONGITUDE -120 37 30.000 signed deg min sec SDDD MM SS.SSS*
NORTH_LATITUDE 39 33 45.000 signed deg min sec SDDD MM SS.SSS*
SOUTH_LATITUDE 39 30 0.000 signed deg min sec SDDD MM SS.SSS*
PRODUCTION_DATE 2000 11 21 yyyy mm dd*
RASTER_ORDER LEFT_RIGHT/TOP_BOTTOM video display order*
BAND_ORGANIZATION "SINGLE FILE" single file or BSQ, or BIL or BIP*
BAND_CONTENT BLACK&WHITE black&white or red green blue*
BITS_PER_PIXEL 8 radiometric resolution*
SAMPLES_AND_LINES 6246 7693 number of columns and rows*
HORIZONTAL_DATUM NAD83 primary horizontal datum*
HORIZONTAL_COORDINATE_SYSTEM UTM *
COORDINATE_ZONE 10 coordinate system zone number*
HORIZONTAL_UNITS METERS coordinate system units*
HORIZONTAL_RESOLUTION 1.00 pixel horiz. ground sample distance*
SECONDARY_HORIZONTAL_DATUM NAD27 secondary horizontal datum*
XY_ORIGIN 698267.000 4382195.000 coord. of upper left pixel pri. datum*
SECONDARY_XY_ORIGIN 698362.211 4381999.469 coord upper left pixel sec datum*
NATION US nation code*
STATE CA state fip code*
NW_QUAD_CORNER_XY 698658.571 4381755.012 XY coords. of pri. NW quad corner*
NE_QUAD_CORNER_XY 704028.300 4381894.993 XY coords. of pri. NE quad corner*
SE_QUAD_CORNER_XY 704211.443 4374957.523 XY coords. of pri. SE quad corner*
SW_QUAD_CORNER_XY 698836.887 4374817.601 XY coords. of pri. SW quad corner*
SECONDARY_NW_QUAD_XY 698663.735 4381545.922 XY coords. - sec. NW quad cor.*
SECONDARY_NE_QUAD_XY 704033.604 4381685.906 XY coords. - sec. NE quad cor.*
SECONDARY_SE_QUAD_XY 704216.743 4374748.566 XY coords. - sec. SE quad cor.*
SECONDARY_SW_QUAD_XY 698842.048 4374608.640 XY coords. - sec. SW quad cor.*
RMSE_XY 1.70 doq horiz. accuracy*
IMAGE_SOURCE "BLACK AND WHITE FILM" b&w, cir, natural color, other*
SOURCE_IMAGE_ID "NAPP 10507 138" source image id*
SOURCE_IMAGE_DATE 1998 08 25 source image date as yyyy mm dd*
SOURCE_IMAGE_ID "NAPP 10546 167" source image id*
SOURCE_IMAGE_DATE 1998 08 15 source image date as yyyy mm dd*
SOURCE_IMAGE_ID "NAPP 10557 157" source image id*
SOURCE_IMAGE_DATE 1998 08 29 source image date as yyyy mm dd*
SOURCE_IMAGE_ID "NAPP 10507 137" source image id*
SOURCE_IMAGE_DATE 1998 08 25 source image date as yyyy mm dd*
SOURCE_IMAGE_ID "NAPP 10557 156" source image id*
SOURCE_IMAGE_DATE 1998 08 29 source image date as yyyy mm dd*
SOURCE_IMAGE_ID "NAPP 10507 141" source image id*
SOURCE_IMAGE_DATE 1998 08 25 source image date as yyyy mm dd*
SOURCE_DEM_DATE 2000 01 01 source dem date yyyy mm dd*
AGENCY "WESTERN MAPPING CENTER (WMC)" oversight agency*
PRODUCER "SCIENCE APPLICATIONS INTERNATIONAL" producer/contractor*
PRODUCTION_SYSTEM "GIS/MAGIC" production system*
STANDARD_VERSION 1996 12 version of DOQ standard*
METADATA_DATE 2000 12 19 date created or changed, yyyy mm dd*
DATA_FILE_SIZE 48056724 data set size in bytes*
BYTE_COUNT 6246 header byte count* * * * * * * * * * * * * * * * * * * * * * * * * *
END_USGS_HEADER *
