BEGIN_USGS_DOQ_HEADER *
QUADRANGLE_NAME "DOWNIEVILLE" 3.45 or 7.5-min. name*
QUADRANT SW quadrant indicator if cell size = 3.75-minutes*
WEST_LONGITUDE -120 52 30.000 signed deg min sec SDDD MM SS.SSS*
EAST_LONGITUDE -120 48 45.000 signed deg min sec SDDD MM SS.SSS*
NORTH_LATITUDE 39 33 45.000 signed deg min sec SDDD MM SS.SSS*
SOUTH_LATITUDE 39 30 0.000 signed deg min sec SDDD MM SS.SSS*
PRODUCTION_DATE 2000 10 5 yyyy mm dd*
RASTER_ORDER LEFT_RIGHT/TOP_BOTTOM video display order*
BAND_ORGANIZATION "SINGLE FILE" single file or BSQ, or BIL or BIP*
BAND_CONTENT BLACK&WHITE black&white or red green blue*
BITS_PER_PIXEL 8 radiometric resolution*
SAMPLES_AND_LINES 6232 7683 number of columns and rows*
HORIZONTAL_DATUM NAD83 primary horizontal datum*
HORIZONTAL_COORDINATE_SYSTEM UTM *
COORDINATE_ZONE 10 coordinate system zone number*
HORIZONTAL_UNITS METERS coordinate system units*
HORIZONTAL_RESOLUTION 1.00 pixel horiz. ground sample distance*
SECONDARY_HORIZONTAL_DATUM NAD27 secondary horizontal datum*
XY_ORIGIN 682157.000 4381787.000 coord. of upper left pixel pri. datum*
SECONDARY_XY_ORIGIN 682252.507 4381591.711 coord upper left pixel sec datum*
NATION US nation code*
STATE CA state fip code*
NW_QUAD_CORNER_XY 682549.649 4381357.494 XY coords. of pri. NW quad corner*
NE_QUAD_CORNER_XY 687919.247 4381486.263 XY coords. of pri. NE quad corner*
SE_QUAD_CORNER_XY 688087.912 4374548.966 XY coords. of pri. SE quad corner*
SW_QUAD_CORNER_XY 682713.489 4374420.253 XY coords. of pri. SW quad corner*
SECONDARY_NW_QUAD_XY 682554.394 4381148.394 XY coords. - sec. NW quad cor.*
SECONDARY_NE_QUAD_XY 687924.131 4381277.166 XY coords. - sec. NE quad cor.*
SECONDARY_SE_QUAD_XY 688092.794 4374339.998 XY coords. - sec. SE quad cor.*
SECONDARY_SW_QUAD_XY 682718.232 4374211.281 XY coords. - sec. SW quad cor.*
RMSE_XY 4.60 doq horiz. accuracy*
IMAGE_SOURCE "BLACK AND WHITE FILM" b&w, cir, natural color, other*
SOURCE_IMAGE_ID "NAPP 10497 086" source image id*
SOURCE_IMAGE_DATE 1998 08 03 source image date as yyyy mm dd*
SOURCE_IMAGE_ID "NAPP 10533 043" source image id*
SOURCE_IMAGE_DATE 1998 08 29 source image date as yyyy mm dd*
SOURCE_IMAGE_ID "NAPP 10497 089" source image id*
SOURCE_IMAGE_DATE 1998 08 03 source image date as yyyy mm dd*
SOURCE_IMAGE_ID "NAPP 10533 018" source image id*
SOURCE_IMAGE_DATE 1998 08 29 source image date as yyyy mm dd*
SOURCE_IMAGE_ID "NAPP 10497 085" source image id*
SOURCE_IMAGE_DATE 1998 08 03 source image date as yyyy mm dd*
SOURCE_DEM_DATE 2000 01 01 source dem date yyyy mm dd*
AGENCY "WESTERN MAPPING CENTER (WMC)" oversight agency*
PRODUCER "SCIENCE APPLICATIONS INTERNATIONAL" producer/contractor*
PRODUCTION_SYSTEM "GIS/MAGIC" production system*
STANDARD_VERSION 1996 12 version of DOQ standard*
METADATA_DATE 2000 12 01 date created or changed, yyyy mm dd*
DATA_FILE_SIZE 47886688 data set size in bytes*
BYTE_COUNT 6232 header byte count* * * * * * * * * * * * * * * * * * * * * * * * * * *
END_USGS_HEADER *
