BEGIN_USGS_DOQ_HEADER *
QUADRANGLE_NAME "EVANS CANYON" 3.45 or 7.5-min. name*
QUADRANT NW quadrant indicator if cell size = 3.75-minutes*
WEST_LONGITUDE -120 7 30.000 signed deg min sec SDDD MM SS.SSS*
EAST_LONGITUDE -120 3 45.000 signed deg min sec SDDD MM SS.SSS*
NORTH_LATITUDE 39 45 0.000 signed deg min sec SDDD MM SS.SSS*
SOUTH_LATITUDE 39 41 15.000 signed deg min sec SDDD MM SS.SSS*
PRODUCTION_DATE 2000 12 11 yyyy mm dd*
RASTER_ORDER LEFT_RIGHT/TOP_BOTTOM video display order*
BAND_ORGANIZATION "SINGLE FILE" single file or BSQ, or BIL or BIP*
BAND_CONTENT BLACK&WHITE black&white or red green blue*
BITS_PER_PIXEL 8 radiometric resolution*
SAMPLES_AND_LINES 6274 7728 number of columns and rows*
HORIZONTAL_DATUM NAD83 primary horizontal datum*
HORIZONTAL_COORDINATE_SYSTEM UTM *
COORDINATE_ZONE 10 coordinate system zone number*
HORIZONTAL_UNITS METERS coordinate system units*
HORIZONTAL_RESOLUTION 1.00 pixel horiz. ground sample distance*
SECONDARY_HORIZONTAL_DATUM NAD27 secondary horizontal datum*
XY_ORIGIN 745931.000 4404438.000 coord. of upper left pixel pri. datum*
SECONDARY_XY_ORIGIN 746025.883 4404241.866 coord upper left pixel sec datum*
NATION US nation code*
STATE CA state fip code*
NW_QUAD_CORNER_XY 746320.801 4403963.801 XY coords. of pri. NW quad corner*
NE_QUAD_CORNER_XY 751676.455 4404137.660 XY coords. of pri. NE quad corner*
SE_QUAD_CORNER_XY 751903.966 4397199.421 XY coords. of pri. SE quad corner*
SW_QUAD_CORNER_XY 746543.461 4397025.633 XY coords. of pri. SW quad corner*
SECONDARY_NW_QUAD_XY 746327.235 4403754.365 XY coords. - sec. NW quad cor.*
SECONDARY_NE_QUAD_XY 751683.029 4403928.228 XY coords. - sec. NE quad cor.*
SECONDARY_SE_QUAD_XY 751910.536 4396990.116 XY coords. - sec. SE quad cor.*
SECONDARY_SW_QUAD_XY 746549.891 4396816.323 XY coords. - sec. SW quad cor.*
RMSE_XY 2.90 doq horiz. accuracy*
IMAGE_SOURCE "BLACK AND WHITE FILM" b&w, cir, natural color, other*
SOURCE_IMAGE_ID "NAPP 10511 174" source image id*
SOURCE_IMAGE_DATE 1999 09 26 source image date as yyyy mm dd*
SOURCE_IMAGE_ID "NAPP 10511 158" source image id*
SOURCE_IMAGE_DATE 1999 09 26 source image date as yyyy mm dd*
SOURCE_IMAGE_ID "NAPP 10511 173" source image id*
SOURCE_IMAGE_DATE 1999 09 26 source image date as yyyy mm dd*
SOURCE_IMAGE_ID "NAPP 10511 175" source image id*
SOURCE_IMAGE_DATE 1999 09 26 source image date as yyyy mm dd*
SOURCE_DEM_DATE 1978 00 00 source dem date yyyy mm dd*
AGENCY "WESTERN MAPPING CENTER (WMC)" oversight agency*
PRODUCER "SCIENCE APPLICATIONS INTERNATIONAL" producer/contractor*
PRODUCTION_SYSTEM "GIS/MAGIC" production system*
STANDARD_VERSION 1996 12 version of DOQ standard*
METADATA_DATE 2000 12 13 date created or changed, yyyy mm dd*
DATA_FILE_SIZE 48491746 data set size in bytes*
BYTE_COUNT 6274 header byte count* * * * * * * * * * * * * * * * * * * * * * * * * * * * * *
END_USGS_HEADER *
