BEGIN_USGS_DOQ_HEADER *
QUADRANGLE_NAME "LOYALTON" 3.45 or 7.5-min. name*
QUADRANT NW quadrant indicator if cell size = 3.75-minutes*
WEST_LONGITUDE -120 15 0.000 signed deg min sec SDDD MM SS.SSS*
EAST_LONGITUDE -120 11 15.000 signed deg min sec SDDD MM SS.SSS*
NORTH_LATITUDE 39 45 0.000 signed deg min sec SDDD MM SS.SSS*
SOUTH_LATITUDE 39 41 15.000 signed deg min sec SDDD MM SS.SSS*
PRODUCTION_DATE 2000 12 8 yyyy mm dd*
RASTER_ORDER LEFT_RIGHT/TOP_BOTTOM video display order*
BAND_ORGANIZATION "SINGLE FILE" single file or BSQ, or BIL or BIP*
BAND_CONTENT BLACK&WHITE black&white or red green blue*
BITS_PER_PIXEL 8 radiometric resolution*
SAMPLES_AND_LINES 6266 7721 number of columns and rows*
HORIZONTAL_DATUM NAD83 primary horizontal datum*
HORIZONTAL_COORDINATE_SYSTEM UTM *
COORDINATE_ZONE 10 coordinate system zone number*
HORIZONTAL_UNITS METERS coordinate system units*
HORIZONTAL_RESOLUTION 1.00 pixel horiz. ground sample distance*
SECONDARY_HORIZONTAL_DATUM NAD27 secondary horizontal datum*
XY_ORIGIN 735219.000 4404094.000 coord. of upper left pixel pri. datum*
SECONDARY_XY_ORIGIN 735313.899 4403897.916 coord upper left pixel sec datum*
NATION US nation code*
STATE CA state fip code*
NW_QUAD_CORNER_XY 735609.654 4403627.323 XY coords. of pri. NW quad corner*
NE_QUAD_CORNER_XY 740965.201 4403793.689 XY coords. of pri. NE quad corner*
SE_QUAD_CORNER_XY 741183.011 4396855.590 XY coords. of pri. SE quad corner*
SW_QUAD_CORNER_XY 735822.613 4396689.292 XY coords. of pri. SW quad corner*
SECONDARY_NW_QUAD_XY 735615.808 4403417.878 XY coords. - sec. NW quad cor.*
SECONDARY_NE_QUAD_XY 740971.495 4403584.248 XY coords. - sec. NE quad cor.*
SECONDARY_SE_QUAD_XY 741189.300 4396646.276 XY coords. - sec. SE quad cor.*
SECONDARY_SW_QUAD_XY 735828.763 4396479.974 XY coords. - sec. SW quad cor.*
RMSE_XY 1.60 doq horiz. accuracy*
IMAGE_SOURCE "BLACK AND WHITE FILM" b&w, cir, natural color, other*
SOURCE_IMAGE_ID "NAPP 10511 010" source image id*
SOURCE_IMAGE_DATE 1999 09 26 source image date as yyyy mm dd*
SOURCE_IMAGE_ID "NAPP 10511 008" source image id*
SOURCE_IMAGE_DATE 1999 09 26 source image date as yyyy mm dd*
SOURCE_IMAGE_ID "NAPP 10511 009" source image id*
SOURCE_IMAGE_DATE 1999 09 26 source image date as yyyy mm dd*
SOURCE_IMAGE_ID "NAPP 10511 160" source image id*
SOURCE_IMAGE_DATE 1999 09 26 source image date as yyyy mm dd*
SOURCE_DEM_DATE 1981 00 00 source dem date yyyy mm dd*
AGENCY "WESTERN MAPPING CENTER (WMC)" oversight agency*
PRODUCER "SCIENCE APPLICATIONS INTERNATIONAL" producer/contractor*
PRODUCTION_SYSTEM "GIS/MAGIC" production system*
STANDARD_VERSION 1996 12 version of DOQ standard*
METADATA_DATE 2000 12 13 date created or changed, yyyy mm dd*
DATA_FILE_SIZE 48386052 data set size in bytes*
BYTE_COUNT 6266 header byte count* * * * * * * * * * * * * * * * * * * * * * * * * * * * * *
END_USGS_HEADER *
