BEGIN_USGS_DOQ_HEADER *
QUADRANGLE_NAME "ANTELOPE VALLEY" 3.45 or 7.5-min. name*
QUADRANT SW quadrant indicator if cell size = 3.75-minutes*
WEST_LONGITUDE -120 22 30.000 signed deg min sec SDDD MM SS.SSS*
EAST_LONGITUDE -120 18 45.000 signed deg min sec SDDD MM SS.SSS*
NORTH_LATITUDE 39 41 15.000 signed deg min sec SDDD MM SS.SSS*
SOUTH_LATITUDE 39 37 30.000 signed deg min sec SDDD MM SS.SSS*
PRODUCTION_DATE 2000 10 5 yyyy mm dd*
RASTER_ORDER LEFT_RIGHT/TOP_BOTTOM video display order*
BAND_ORGANIZATION "SINGLE FILE" single file or BSQ, or BIL or BIP*
BAND_CONTENT BLACK&WHITE black&white or red green blue*
BITS_PER_PIXEL 8 radiometric resolution*
SAMPLES_AND_LINES 6261 7713 number of columns and rows*
HORIZONTAL_DATUM NAD83 primary horizontal datum*
HORIZONTAL_COORDINATE_SYSTEM UTM *
COORDINATE_ZONE 10 coordinate system zone number*
HORIZONTAL_UNITS METERS coordinate system units*
HORIZONTAL_RESOLUTION 1.00 pixel horiz. ground sample distance*
SECONDARY_HORIZONTAL_DATUM NAD27 secondary horizontal datum*
XY_ORIGIN 724711.000 4396827.000 coord. of upper left pixel pri. datum*
SECONDARY_XY_ORIGIN 724806.002 4396631.064 coord upper left pixel sec datum*
NATION US nation code*
STATE CA state fip code*
NW_QUAD_CORNER_XY 725101.974 4396367.928 XY coords. of pri. NW quad corner*
NE_QUAD_CORNER_XY 730462.268 4396526.738 XY coords. of pri. NE quad corner*
SE_QUAD_CORNER_XY 730670.103 4389588.832 XY coords. of pri. SE quad corner*
SW_QUAD_CORNER_XY 725304.967 4389430.088 XY coords. of pri. SW quad corner*
SECONDARY_NW_QUAD_XY 725107.844 4396158.602 XY coords. - sec. NW quad cor.*
SECONDARY_NE_QUAD_XY 730468.278 4396317.416 XY coords. - sec. NE quad cor.*
SECONDARY_SE_QUAD_XY 730676.109 4389379.637 XY coords. - sec. SE quad cor.*
SECONDARY_SW_QUAD_XY 725310.833 4389220.889 XY coords. - sec. SW quad cor.*
RMSE_XY 1.10 doq horiz. accuracy*
IMAGE_SOURCE "BLACK AND WHITE FILM" b&w, cir, natural color, other*
SOURCE_IMAGE_ID "NAPP 10510 007" source image id*
SOURCE_IMAGE_DATE 1998 09 14 source image date as yyyy mm dd*
SOURCE_IMAGE_ID "NAPP 10510 006" source image id*
SOURCE_IMAGE_DATE 1998 09 14 source image date as yyyy mm dd*
SOURCE_DEM_DATE 2000 01 01 source dem date yyyy mm dd*
AGENCY "WESTERN MAPPING CENTER (WMC)" oversight agency*
PRODUCER "SCIENCE APPLICATIONS INTERNATIONAL" producer/contractor*
PRODUCTION_SYSTEM "GIS/MAGIC" production system*
STANDARD_VERSION 1996 12 version of DOQ standard*
METADATA_DATE 2000 12 04 date created or changed, yyyy mm dd*
DATA_FILE_SIZE 48297354 data set size in bytes*
BYTE_COUNT 6261 header byte count* * * * * * * * * * * * * * * * * * * * * * * * * * * * * * * * * *
END_USGS_HEADER *
