BEGIN_USGS_DOQ_HEADER *
QUADRANGLE_NAME "LA PORTE" 3.45 or 7.5-min. name*
QUADRANT NW quadrant indicator if cell size = 3.75-minutes*
WEST_LONGITUDE -121 0 0.000 signed deg min sec SDDD MM SS.SSS*
EAST_LONGITUDE -120 56 15.000 signed deg min sec SDDD MM SS.SSS*
NORTH_LATITUDE 39 45 0.000 signed deg min sec SDDD MM SS.SSS*
SOUTH_LATITUDE 39 41 15.000 signed deg min sec SDDD MM SS.SSS*
PRODUCTION_DATE 2000 10 5 yyyy mm dd*
RASTER_ORDER LEFT_RIGHT/TOP_BOTTOM video display order*
BAND_ORGANIZATION "SINGLE FILE" single file or BSQ, or BIL or BIP*
BAND_CONTENT BLACK&WHITE black&white or red green blue*
BITS_PER_PIXEL 8 radiometric resolution*
SAMPLES_AND_LINES 6209 7676 number of columns and rows*
HORIZONTAL_DATUM NAD83 primary horizontal datum*
HORIZONTAL_COORDINATE_SYSTEM UTM *
COORDINATE_ZONE 10 coordinate system zone number*
HORIZONTAL_UNITS METERS coordinate system units*
HORIZONTAL_RESOLUTION 1.00 pixel horiz. ground sample distance*
SECONDARY_HORIZONTAL_DATUM NAD27 secondary horizontal datum*
XY_ORIGIN 670954.000 4402345.000 coord. of upper left pixel pri. datum*
SECONDARY_XY_ORIGIN 671049.536 4402149.526 coord upper left pixel sec datum*
NATION US nation code*
STATE CA state fip code*
NW_QUAD_CORNER_XY 671346.769 4401922.975 XY coords. of pri. NW quad corner*
NE_QUAD_CORNER_XY 676701.775 4402044.421 XY coords. of pri. NE quad corner*
SE_QUAD_CORNER_XY 676861.425 4395107.036 XY coords. of pri. SE quad corner*
SW_QUAD_CORNER_XY 671501.576 4394985.640 XY coords. of pri. SW quad corner*
SECONDARY_NW_QUAD_XY 671351.243 4401713.485 XY coords. - sec. NW quad cor.*
SECONDARY_NE_QUAD_XY 676706.389 4401834.935 XY coords. - sec. NE quad cor.*
SECONDARY_SE_QUAD_XY 676866.037 4394897.677 XY coords. - sec. SE quad cor.*
SECONDARY_SW_QUAD_XY 671506.048 4394776.277 XY coords. - sec. SW quad cor.*
RMSE_XY 2.80 doq horiz. accuracy*
IMAGE_SOURCE "BLACK AND WHITE FILM" b&w, cir, natural color, other*
SOURCE_IMAGE_ID "NAPP 10506 099" source image id*
SOURCE_IMAGE_DATE 1998 08 24 source image date as yyyy mm dd*
SOURCE_IMAGE_ID "NAPP 10506 098" source image id*
SOURCE_IMAGE_DATE 1998 08 24 source image date as yyyy mm dd*
SOURCE_IMAGE_ID "NAPP 10497 094" source image id*
SOURCE_IMAGE_DATE 1998 08 03 source image date as yyyy mm dd*
SOURCE_IMAGE_ID "NAPP 10497 095" source image id*
SOURCE_IMAGE_DATE 1998 08 03 source image date as yyyy mm dd*
SOURCE_DEM_DATE 2000 01 01 source dem date yyyy mm dd*
AGENCY "WESTERN MAPPING CENTER (WMC)" oversight agency*
PRODUCER "SCIENCE APPLICATIONS INTERNATIONAL" producer/contractor*
PRODUCTION_SYSTEM "GIS/MAGIC" production system*
STANDARD_VERSION 1996 12 version of DOQ standard*
METADATA_DATE 2000 12 01 date created or changed, yyyy mm dd*
DATA_FILE_SIZE 47666493 data set size in bytes*
BYTE_COUNT 6209 header byte count* * * * * * * * * * * * * * * * * * * * * * * * * * * * *
END_USGS_HEADER *
