BEGIN_USGS_DOQ_HEADER *
QUADRANGLE_NAME "BECKWOURTH PASS" 3.45 or 7.5-min. name*
QUADRANT SE quadrant indicator if cell size = 3.75-minutes*
WEST_LONGITUDE -120 3 45.000 signed deg min sec SDDD MM SS.SSS*
EAST_LONGITUDE -120 0 0.000 signed deg min sec SDDD MM SS.SSS*
NORTH_LATITUDE 39 48 45.000 signed deg min sec SDDD MM SS.SSS*
SOUTH_LATITUDE 39 45 0.000 signed deg min sec SDDD MM SS.SSS*
PRODUCTION_DATE 2001 1 24 yyyy mm dd*
RASTER_ORDER left_right/top_bottom video display order*
BAND_ORGANIZATION "single file" single file or BSQ, or BIL or BIP*
BAND_CONTENT BLACK&WHITE black&white or red green blue*
BITS_PER_PIXEL 8 radiometric resolution*
SAMPLES_AND_LINES 6283 7740 number of columns and rows*
HORIZONTAL_DATUM NAD83 primary horizontal datum*
HORIZONTAL_COORDINATE_SYSTEM UTM *
COORDINATE_ZONE 10 coordinate system zone number*
HORIZONTAL_UNITS meters coordinate system units*
HORIZONTAL_RESOLUTION 1.00 pixel horiz. ground sample distance*
SECONDARY_HORIZONTAL_DATUM NAD27 secondary horizontal datum*
XY_ORIGIN 751055.000 4411559.000 coord. of upper left pixel pri. datum*
SECONDARY_XY_ORIGIN 751149.855 4411362.789 coord upper left pixel sec datum*
NATION US nation code*
STATE CA state fip code*
STATE NV state fip code*
NW_QUAD_CORNER_XY 751448.644 4411075.955 XY coords. of pri. NW quad corner*
NE_QUAD_CORNER_XY 756799.495 4411253.633 XY coords. of pri. NE quad corner*
SE_QUAD_CORNER_XY 757032.164 4404315.267 XY coords. of pri. SE quad corner*
SW_QUAD_CORNER_XY 751676.455 4404137.660 XY coords. of pri. SW quad corner*
SECONDARY_NW_QUAD_XY 751455.222 4410866.397 XY coords. - sec. NW quad cor.*
SECONDARY_NE_QUAD_XY 756806.213 4411044.080 XY coords. - sec. NE quad cor.*
SECONDARY_SE_QUAD_XY 757038.878 4404105.840 XY coords. - sec. SE quad cor.*
SECONDARY_SW_QUAD_XY 751683.029 4403928.229 XY coords. - sec. SW quad cor.*
RMSE_XY 2.26 doq horiz. accuracy*
IMAGE_SOURCE "BLACK AND WHITE FILM" b&w, cir, natural color, other*
SOURCE_IMAGE_ID "NAPP 10499-172" source image id*
SOURCE_IMAGE_DATE 1998 8 12 source image date as yyyy mm dd*
SOURCE_DEM_DATE 1997 4 1 source dem date yyyy mm dd*
AGENCY "WESTERN MAPPING CENTER (WMC)" oversight agency*
PRODUCER "WOOLPERT LLP" producer/contractor*
PRODUCTION_SYSTEM "INTERGRAPH ISPM, ISIR" production system*
STANDARD_VERSION 1996 12 version of DOQ standard*
METADATA_DATE 2001 1 26 date created or changed, yyyy mm dd*
DATA_FILE_SIZE 48636703 data set size in bytes*
BYTE_COUNT 6283 header byte count* * * * * * * * * * * * * * * * * * * * * * * * * * * * * * * * * * *
END_USGS_HEADER *
