BEGIN_USGS_DOQ_HEADER *
QUADRANGLE_NAME "CHILCOOT" 3.45 or 7.5-min. name*
QUADRANT NW quadrant indicator if cell size = 3.75-minutes*
WEST_LONGITUDE -120 15 0.000 signed deg min sec SDDD MM SS.SSS*
EAST_LONGITUDE -120 11 15.000 signed deg min sec SDDD MM SS.SSS*
NORTH_LATITUDE 39 52 30.000 signed deg min sec SDDD MM SS.SSS*
SOUTH_LATITUDE 39 48 45.000 signed deg min sec SDDD MM SS.SSS*
PRODUCTION_DATE 2001 1 24 yyyy mm dd*
RASTER_ORDER left_right/top_bottom video display order*
BAND_ORGANIZATION "single file" single file or BSQ, or BIL or BIP*
BAND_CONTENT BLACK&WHITE black&white or red green blue*
BITS_PER_PIXEL 8 radiometric resolution*
SAMPLES_AND_LINES 6264 7730 number of columns and rows*
HORIZONTAL_DATUM NAD83 primary horizontal datum*
HORIZONTAL_COORDINATE_SYSTEM UTM *
COORDINATE_ZONE 10 coordinate system zone number*
HORIZONTAL_UNITS meters coordinate system units*
HORIZONTAL_RESOLUTION 1.00 pixel horiz. ground sample distance*
SECONDARY_HORIZONTAL_DATUM NAD27 secondary horizontal datum*
XY_ORIGIN 734789.000 4417976.000 coord. of upper left pixel pri. datum*
SECONDARY_XY_ORIGIN 734883.837 4417779.803 coord upper left pixel sec datum*
NATION US nation code*
STATE CA state fip code*
NW_QUAD_CORNER_XY 735182.892 4417503.558 XY coords. of pri. NW quad corner*
NE_QUAD_CORNER_XY 740528.721 4417670.057 XY coords. of pri. NE quad corner*
SE_QUAD_CORNER_XY 740747.105 4410731.845 XY coords. of pri. SE quad corner*
SW_QUAD_CORNER_XY 735396.413 4410565.412 XY coords. of pri. SW quad corner*
SECONDARY_NW_QUAD_XY 735189.053 4417293.863 XY coords. - sec. NW quad cor.*
SECONDARY_NE_QUAD_XY 740535.022 4417460.366 XY coords. - sec. NE quad cor.*
SECONDARY_SE_QUAD_XY 740753.402 4410522.279 XY coords. - sec. SE quad cor.*
SECONDARY_SW_QUAD_XY 735402.571 4410355.841 XY coords. - sec. SW quad cor.*
RMSE_XY 2.34 doq horiz. accuracy*
IMAGE_SOURCE "BLACK AND WHITE FILM" b&w, cir, natural color, other*
SOURCE_IMAGE_ID "NAPP 10511-014" source image id*
SOURCE_IMAGE_DATE 1999 9 26 source image date as yyyy mm dd*
SOURCE_IMAGE_ID "NAPP 10511-015" source image id*
SOURCE_IMAGE_DATE 1999 9 26 source image date as yyyy mm dd*
SOURCE_DEM_DATE 1996 1 1 source dem date yyyy mm dd*
AGENCY "WESTERN MAPPING CENTER (WMC)" oversight agency*
PRODUCER "WOOLPERT LLP" producer/contractor*
PRODUCTION_SYSTEM "INTERGRAPH ISPM, ISIR" production system*
STANDARD_VERSION 1996 12 version of DOQ standard*
METADATA_DATE 2001 1 26 date created or changed, yyyy mm dd*
DATA_FILE_SIZE 48426984 data set size in bytes*
BYTE_COUNT 6264 header byte count* * * * * * * * * * * * * * * * * * * * * * * * * * * * * * * * * *
END_USGS_HEADER *
