BEGIN_USGS_DOQ_HEADER *
QUADRANGLE_NAME "BLAIRSDEN" 3.45 or 7.5-min. name*
QUADRANT SW quadrant indicator if cell size = 3.75-minutes*
WEST_LONGITUDE -120 37 30.000 signed deg min sec SDDD MM SS.SSS*
EAST_LONGITUDE -120 33 45.000 signed deg min sec SDDD MM SS.SSS*
NORTH_LATITUDE 39 48 45.000 signed deg min sec SDDD MM SS.SSS*
SOUTH_LATITUDE 39 45 0.000 signed deg min sec SDDD MM SS.SSS*
PRODUCTION_DATE 2000 7 6 yyyy mm dd*
RASTER_ORDER left_right/top_bottom video display order*
BAND_ORGANIZATION "single file" single file or BSQ, or BIL or BIP*
BAND_CONTENT BLACK&WHITE black&white or red green blue*
BITS_PER_PIXEL 8 radiometric resolution*
SAMPLES_AND_LINES 6240 7706 number of columns and rows*
HORIZONTAL_DATUM NAD83 primary horizontal datum*
HORIZONTAL_COORDINATE_SYSTEM UTM *
COORDINATE_ZONE 10 coordinate system zone number*
HORIZONTAL_UNITS meters coordinate system units*
HORIZONTAL_RESOLUTION 1.00 pixel horiz. ground sample distance*
SECONDARY_HORIZONTAL_DATUM NAD27 secondary horizontal datum*
XY_ORIGIN 702898.000 4410095.000 coord. of upper left pixel pri. datum*
SECONDARY_XY_ORIGIN 702993.163 4409899.127 coord upper left pixel sec datum*
NATION US nation code*
STATE CA state fip code*
NW_QUAD_CORNER_XY 703293.294 4409645.492 XY coords. of pri. NW quad corner*
NE_QUAD_CORNER_XY 708643.697 4409789.448 XY coords. of pri. NE quad corner*
SE_QUAD_CORNER_XY 708832.666 4402851.672 XY coords. of pri. SE quad corner*
SW_QUAD_CORNER_XY 703477.410 4402707.774 XY coords. of pri. SW quad corner*
SECONDARY_NW_QUAD_XY 703298.611 4409435.897 XY coords. - sec. NW quad cor.*
SECONDARY_NE_QUAD_XY 708649.155 4409579.857 XY coords. - sec. NE quad cor.*
SECONDARY_SE_QUAD_XY 708838.120 4402642.207 XY coords. - sec. SE quad cor.*
SECONDARY_SW_QUAD_XY 703482.724 4402498.305 XY coords. - sec. SW quad cor.*
RMSE_XY 2.51 doq horiz. accuracy*
IMAGE_SOURCE "BLACK AND WHITE FILM" b&w, cir, natural color, other*
SOURCE_IMAGE_ID "NAPP 10507-149" source image id*
SOURCE_IMAGE_DATE 1998 8 25 source image date as yyyy mm dd*
SOURCE_DEM_DATE 1997 6 1 source dem date yyyy mm dd*
AGENCY "WESTERN MAPPING CENTER (WMC)" oversight agency*
PRODUCER "WOOLPERT LLP" producer/contractor*
PRODUCTION_SYSTEM "INTERGRAPH ISPM, ISIR" production system*
STANDARD_VERSION 1996 12 version of DOQ standard*
METADATA_DATE 2000 7 6 date created or changed, yyyy mm dd*
DATA_FILE_SIZE 48091680 data set size in bytes*
BYTE_COUNT 6240 header byte count* * * * * * * * * * * * * * * * * * * * * * * * * * * * * * * * * * *
END_USGS_HEADER *
