BEGIN_USGS_DOQ_HEADER *
QUADRANGLE_NAME "SPRING GARDEN" 3.45 or 7.5-min. name*
QUADRANT SE quadrant indicator if cell size = 3.75-minutes*
WEST_LONGITUDE -120 48 45.000 signed deg min sec SDDD MM SS.SSS*
EAST_LONGITUDE -120 45 0.000 signed deg min sec SDDD MM SS.SSS*
NORTH_LATITUDE 39 56 15.000 signed deg min sec SDDD MM SS.SSS*
SOUTH_LATITUDE 39 52 30.000 signed deg min sec SDDD MM SS.SSS*
PRODUCTION_DATE 2000 7 7 yyyy mm dd*
RASTER_ORDER left_right/top_bottom video display order*
BAND_ORGANIZATION "single file" single file or BSQ, or BIL or BIP*
BAND_CONTENT BLACK&WHITE black&white or red green blue*
BITS_PER_PIXEL 8 radiometric resolution*
SAMPLES_AND_LINES 6216 7696 number of columns and rows*
HORIZONTAL_DATUM NAD83 primary horizontal datum*
HORIZONTAL_COORDINATE_SYSTEM UTM *
COORDINATE_ZONE 10 coordinate system zone number*
HORIZONTAL_UNITS meters coordinate system units*
HORIZONTAL_RESOLUTION 1.00 pixel horiz. ground sample distance*
SECONDARY_HORIZONTAL_DATUM NAD27 secondary horizontal datum*
XY_ORIGIN 686507.000 4423550.000 coord. of upper left pixel pri. datum*
SECONDARY_XY_ORIGIN 686602.338 4423354.226 coord upper left pixel sec datum*
NATION US nation code*
STATE CA state fip code*
NW_QUAD_CORNER_XY 686902.549 4423111.386 XY coords. of pri. NW quad corner*
NE_QUAD_CORNER_XY 692243.103 4423244.215 XY coords. of pri. NE quad corner*
SE_QUAD_CORNER_XY 692417.975 4416306.482 XY coords. of pri. SE quad corner*
SW_QUAD_CORNER_XY 687072.558 4416173.705 XY coords. of pri. SW quad corner*
SECONDARY_NW_QUAD_XY 686907.452 4422901.531 XY coords. - sec. NW quad cor.*
SECONDARY_NE_QUAD_XY 692248.146 4423034.364 XY coords. - sec. NE quad cor.*
SECONDARY_SE_QUAD_XY 692423.016 4416096.755 XY coords. - sec. SE quad cor.*
SECONDARY_SW_QUAD_XY 687077.458 4415963.975 XY coords. - sec. SW quad cor.*
RMSE_XY 3.54 doq horiz. accuracy*
IMAGE_SOURCE "BLACK AND WHITE FILM" b&w, cir, natural color, other*
SOURCE_IMAGE_ID "NAPP 10497-015" source image id*
SOURCE_IMAGE_DATE 1998 8 3 source image date as yyyy mm dd*
SOURCE_DEM_DATE 1997 7 1 source dem date yyyy mm dd*
AGENCY "WESTERN MAPPING CENTER (WMC)" oversight agency*
PRODUCER "WOOLPERT LLP" producer/contractor*
PRODUCTION_SYSTEM "INTERGRAPH ISPM, ISIR" production system*
STANDARD_VERSION 1996 12 version of DOQ standard*
METADATA_DATE 2000 7 7 date created or changed, yyyy mm dd*
DATA_FILE_SIZE 47844552 data set size in bytes*
BYTE_COUNT 6216 header byte count* * * * * * * * * * * * * * * * * * * * * * * * * * * * * * * * * * *
END_USGS_HEADER *
