BEGIN_USGS_DOQ_HEADER *
QUADRANGLE_NAME "CAMP FAR WEST" 3.45 or 7.5-min. name*
QUADRANT NW quadrant indicator if cell size = 3.75-minutes*
WEST_LONGITUDE -121 22 30.000 signed deg min sec SDDD MM SS.SSS*
EAST_LONGITUDE -121 18 45.000 signed deg min sec SDDD MM SS.SSS*
NORTH_LATITUDE 39 07 30.000 signed deg min sec SDDD MM SS.SSS*
SOUTH_LATITUDE 39 03 45.000 signed deg min sec SDDD MM SS.SSS*
PRODUCTION_DATE 1999 5 28 yyyy mm dd*
RASTER_ORDER LEFT_RIGHT/TOP_BOTTOM video display order*
BAND_ORGANIZATION "SINGLE FILE" single file or BSQ, or BIL or BIP*
BAND_CONTENT BLACK&WHITE black&white or red green blue*
BITS_PER_PIXEL 8 radiometric resolution*
SAMPLES_AND_LINES 6225 7630 number of columns and rows*
HORIZONTAL_DATUM NAD83 primary horizontal datum*
HORIZONTAL_COORDINATE_SYSTEM UTM *
COORDINATE_ZONE 10 coordinate system zone number*
HORIZONTAL_UNITS METERS coordinate system units*
HORIZONTAL_RESOLUTION 1.00 pixel horiz. ground sample distance*
SECONDARY_HORIZONTAL_DATUM NAD27 secondary horizontal datum*
XY_ORIGIN 640075.000 4332300.000 coord. of upper left pixel pri. datum*
SECONDARY_XY_ORIGIN 640170.926 4332105.259 coord upper left pixel sec datum*
NATION US nation code*
STATE CA state fip code*
NW_QUAD_CORNER_XY 640467.560 4331905.250 XY coords. of pri. NW quad corner*
NE_QUAD_CORNER_XY 645870.470 4332003.830 XY coords. of pri. NE quad corner*
SE_QUAD_CORNER_XY 645999.340 4325067.400 XY coords. of pri. SE quad corner*
SW_QUAD_CORNER_XY 640591.650 4324968.870 XY coords. of pri. SW quad corner*
SECONDARY_NW_QUAD_XY 640471.170 4331697.050 XY coords. - sec. NW quad cor.*
SECONDARY_NE_QUAD_XY 645874.220 4331795.630 XY coords. - sec. NE quad cor.*
SECONDARY_SE_QUAD_XY 646003.080 4324859.340 XY coords. - sec. SE quad cor.*
SECONDARY_SW_QUAD_XY 640595.260 4324760.800 XY coords. - sec. SW quad cor.*
RMSE_XY 5.86 doq horiz. accuracy*
IMAGE_SOURCE "BLACK AND WHITE FILM" b&w, cir, natural color, other*
SOURCE_IMAGE_ID "NAPP 6352 87" source image id*
SOURCE_IMAGE_DATE 1993 5 23 source image date as yyyy mm dd*
SOURCE_DEM_DATE 1999 5 28 source dem date yyyy mm dd*
AGENCY "WESTERN MAPPING CENTER (WMC)" oversight agency*
PRODUCER "U.S. ARMY TOPOGRAPHIC ENGINEERING CENTER" producer/contractor*
PRODUCTION_SYSTEM "MARCONI, SOCET SET, VER.4.1.0" production system*
STANDARD_VERSION 1996 12 version of DOQ standard*
METADATA_DATE 1999 8 17 date created or changed, yyyy mm dd*
DATA_FILE_SIZE 47502975 data set size in bytes*
BYTE_COUNT 6225 header byte count* * * * * * * * * * * * * * * * * * * * * * * * * * * * * * * * * * *
END_USGS_HEADER *
