BEGIN_USGS_DOQ_HEADER *
QUADRANGLE_NAME "GRIMES" *
QUADRANT SW *
WEST_LONGITUDE -122 0 0.0 *
EAST_LONGITUDE -121 56 15.0 *
NORTH_LATITUDE 39 3 45.0 *
SOUTH_LATITUDE 39 0 0.0 *
PRODUCTION_DATE 2001 3 14 *
RASTER_ORDER LEFT_RIGHT/TOP_BOTTOM *
BAND_ORGANIZATION "SINGLE FILE" *
BAND_CONTENT BLACK&WHITE *
BITS_PER_PIXEL 8 *
SAMPLES_AND_LINES 6191 7621 *
HORIZONTAL_DATUM NAD83 *
HORIZONTAL_COORDINATE_SYSTEM UTM *
COORDINATE_ZONE 10 *
HORIZONTAL_UNITS METERS *
HORIZONTAL_RESOLUTION 1.0 *
SECONDARY_HORIZONTAL_DATUM NAD27 *
XY_ORIGIN 586120.000 4324550.000 *
SECONDARY_XY_ORIGIN 586215.594 4324354.585 *
NATION US *
STATE CA *
NW_QUAD_CORNER_XY 586516.436 4324188.115 *
NE_QUAD_CORNER_XY 591923.839 4324249.454 *
SE_QUAD_CORNER_XY 592004.847 4317313.475 *
SW_QUAD_CORNER_XY 586592.678 4317252.165 *
SECONDARY_NW_QUAD_XY 586518.657 4323980.028 *
SECONDARY_NE_QUAD_XY 591926.199 4324041.368 *
SECONDARY_SE_QUAD_XY 592007.205 4317105.525 *
SECONDARY_SW_QUAD_XY 586594.897 4317044.214 *
RMSE_XY 0.599 *
IMAGE_SOURCE "Black and White film" *
SOURCE_IMAGE_ID "NAPP 10527-29" *
SOURCE_IMAGE_DATE 1998 08 23 *
SOURCE_DEM_DATE 1973 00 00 *
AGENCY "WESTERN MAPPING CENTER (WMC)" *
PRODUCER "Hammon, Jensen, Wallen & Associates" *
PRODUCTION_SYSTEM "ORTHOVIEW" *
STANDARD_VERSION 1996 12 *
METADATA_DATE 2001 3 14 *
DATA_FILE_SIZE 47187802 *
BYTE_COUNT 6191 * * * * * * * * * * * * * * * * * * * * * * * * * * * * * * * * * * *
END_USGS_HEADER *
