BEGIN_USGS_DOQ_HEADER *
QUADRANGLE_NAME "ROUGH AND READY" 3.45 or 7.5-min. name*
QUADRANT NW quadrant indicator if cell size = 3.75-minutes*
WEST_LONGITUDE -121 15 0.000 signed deg min sec SDDD MM SS.SSS*
EAST_LONGITUDE -121 11 15.000 signed deg min sec SDDD MM SS.SSS*
NORTH_LATITUDE 39 15 0.000 signed deg min sec SDDD MM SS.SSS*
SOUTH_LATITUDE 39 11 15.000 signed deg min sec SDDD MM SS.SSS*
PRODUCTION_DATE 2000 4 25 yyyy mm dd*
RASTER_ORDER LEFT_RIGHT/TOP_BOTTOM video display order*
BAND_ORGANIZATION "SINGLE FILE" single file or BSQ, or BIL or BIP*
BAND_CONTENT BLACK&WHITE black&white or red green blue*
BITS_PER_PIXEL 8 radiometric resolution*
SAMPLES_AND_LINES 6224 7659 number of columns and rows*
HORIZONTAL_DATUM NAD83 primary horizontal datum*
HORIZONTAL_COORDINATE_SYSTEM UTM *
COORDINATE_ZONE 10 coordinate system zone number*
HORIZONTAL_UNITS METERS coordinate system units*
HORIZONTAL_RESOLUTION 1.00 pixel horiz. ground sample distance*
SECONDARY_HORIZONTAL_DATUM NAD27 secondary horizontal datum*
XY_ORIGIN 650613.000 4346386.000 coord. of upper left pixel pri. datum*
SECONDARY_XY_ORIGIN 650708.981 4346191.194 coord upper left pixel sec datum*
NATION US nation code*
STATE CA state fip code*
NW_QUAD_CORNER_XY 651005.599 4345979.283 XY coords. of pri. NW quad corner*
NE_QUAD_CORNER_XY 656399.012 4346085.405 XY coords. of pri. NE quad corner*
SE_QUAD_CORNER_XY 656537.804 4339148.749 XY coords. of pri. SE quad corner*
SW_QUAD_CORNER_XY 651139.585 4339042.674 XY coords. of pri. SW quad corner*
SECONDARY_NW_QUAD_XY 651009.486 4345770.818 XY coords. - sec. NW quad cor.*
SECONDARY_NE_QUAD_XY 656403.038 4345876.944 XY coords. - sec. NE quad cor.*
SECONDARY_SE_QUAD_XY 656541.836 4338940.421 XY coords. - sec. SE quad cor.*
SECONDARY_SW_QUAD_XY 651143.481 4338834.343 XY coords. - sec. SW quad cor.*
RMSE_XY 1.70 doq horiz. accuracy*
IMAGE_SOURCE "BLACK AND WHITE FILM" b&w, cir, natural color, other*
SOURCE_IMAGE_ID "NAPP 10522 10" source image id*
SOURCE_IMAGE_DATE 1998 8 16 source image date as yyyy mm dd*
SOURCE_DEM_DATE 1987 1 1 source dem date yyyy mm dd*
AGENCY "WESTERN MAPPING CENTER (WMC)" oversight agency*
PRODUCER "WESTERN MAPPING CENTER (WMC)" *
PRODUCTION_SYSTEM "DV2.6.3 10/9OV2.4 5/95" production system*
STANDARD_VERSION 1996 12 version of DOQ standard*
METADATA_DATE 2000 4 25 date created or changed, yyyy mm dd*
DATA_FILE_SIZE 47675840 data set size in bytes*
BYTE_COUNT 6224 header byte count* * * * * * * * * * * * * * * * * * * * * * * * * * * * * * * * * * *
END_USGS_HEADER *
