BEGIN_USGS_DOQ_HEADER *
QUADRANGLE_NAME "PENNINGTON" *
QUADRANT SE *
WEST_LONGITUDE -121 48 45.0 *
EAST_LONGITUDE -121 45 0.0 *
NORTH_LATITUDE 39 18 45.0 *
SOUTH_LATITUDE 39 15 0.0 *
PRODUCTION_DATE 2001 3 14 *
RASTER_ORDER LEFT_RIGHT/TOP_BOTTOM *
BAND_ORGANIZATION "SINGLE FILE" *
BAND_CONTENT BLACK&WHITE *
BITS_PER_PIXEL 8 *
SAMPLES_AND_LINES 6181 7641 *
HORIZONTAL_DATUM NAD83 *
HORIZONTAL_COORDINATE_SYSTEM UTM *
COORDINATE_ZONE 10 *
HORIZONTAL_UNITS METERS *
HORIZONTAL_RESOLUTION 1.0 *
SECONDARY_HORIZONTAL_DATUM NAD27 *
XY_ORIGIN 601980.000 4352510.000 *
SECONDARY_XY_ORIGIN 602075.965 4352314.961 *
NATION US *
STATE CA *
NW_QUAD_CORNER_XY 602375.320 4352128.165 *
NE_QUAD_CORNER_XY 607763.661 4352200.791 *
SE_QUAD_CORNER_XY 607859.486 4345264.432 *
SW_QUAD_CORNER_XY 602466.352 4345191.838 *
SECONDARY_NW_QUAD_XY 602377.964 4351919.548 *
SECONDARY_NE_QUAD_XY 607766.445 4351992.176 *
SECONDARY_SE_QUAD_XY 607862.268 4345055.950 *
SECONDARY_SW_QUAD_XY 602468.995 4344983.354 *
RMSE_XY 0.811 *
IMAGE_SOURCE "Black and White film" *
SOURCE_IMAGE_ID "NAPP 10526-177" *
SOURCE_IMAGE_DATE 1998 08 22 *
SOURCE_DEM_DATE 1973 00 00 *
AGENCY "WESTERN MAPPING CENTER (WMC)" *
PRODUCER "Hammon, Jensen, Wallen & Associates" *
PRODUCTION_SYSTEM "ORTHOVIEW" *
STANDARD_VERSION 1996 12 *
METADATA_DATE 2001 3 14 *
DATA_FILE_SIZE 47235202 *
BYTE_COUNT 6181 * * * * * * * * * * * * * * * * * * * * * * * * * * * * * * * * * * *
END_USGS_HEADER *
