BEGIN_USGS_DOQ_HEADER *
QUADRANGLE_NAME "CAMPTONVILLE" 3.45 or 7.5-min. name*
QUADRANT NW quadrant indicator if cell size = 3.75-minutes*
WEST_LONGITUDE -121 7 30.000 signed deg min sec SDDD MM SS.SSS*
EAST_LONGITUDE -121 3 45.000 signed deg min sec SDDD MM SS.SSS*
NORTH_LATITUDE 39 30 0.000 signed deg min sec SDDD MM SS.SSS*
SOUTH_LATITUDE 39 26 15.000 signed deg min sec SDDD MM SS.SSS*
PRODUCTION_DATE 2000 10 5 yyyy mm dd*
RASTER_ORDER LEFT_RIGHT/TOP_BOTTOM video display order*
BAND_ORGANIZATION "SINGLE FILE" single file or BSQ, or BIL or BIP*
BAND_CONTENT BLACK&WHITE black&white or red green blue*
BITS_PER_PIXEL 8 radiometric resolution*
SAMPLES_AND_LINES 6218 7668 number of columns and rows*
HORIZONTAL_DATUM NAD83 primary horizontal datum*
HORIZONTAL_COORDINATE_SYSTEM UTM *
COORDINATE_ZONE 10 coordinate system zone number*
HORIZONTAL_UNITS METERS coordinate system units*
HORIZONTAL_RESOLUTION 1.00 pixel horiz. ground sample distance*
SECONDARY_HORIZONTAL_DATUM NAD27 secondary horizontal datum*
XY_ORIGIN 660823.000 4374357.000 coord. of upper left pixel pri. datum*
SECONDARY_XY_ORIGIN 660918.855 4374162.118 coord upper left pixel sec datum*
NATION US nation code*
STATE CA state fip code*
NW_QUAD_CORNER_XY 661216.206 4373942.745 XY coords. of pri. NW quad corner*
NE_QUAD_CORNER_XY 666590.468 4374056.521 XY coords. of pri. NE quad corner*
SE_QUAD_CORNER_XY 666739.638 4367119.499 XY coords. of pri. SE quad corner*
SW_QUAD_CORNER_XY 661360.560 4367005.773 XY coords. of pri. SW quad corner*
SECONDARY_NW_QUAD_XY 661220.390 4373733.762 XY coords. - sec. NW quad cor.*
SECONDARY_NE_QUAD_XY 666594.792 4373847.540 XY coords. - sec. NE quad cor.*
SECONDARY_SE_QUAD_XY 666743.959 4366910.648 XY coords. - sec. SE quad cor.*
SECONDARY_SW_QUAD_XY 661364.741 4366796.919 XY coords. - sec. SW quad cor.*
RMSE_XY 2.10 doq horiz. accuracy*
IMAGE_SOURCE "BLACK AND WHITE FILM" b&w, cir, natural color, other*
SOURCE_IMAGE_ID "NAPP 10521 099" source image id*
SOURCE_IMAGE_DATE 1998 08 16 source image date as yyyy mm dd*
SOURCE_IMAGE_ID "NAPP 10521 291" source image id*
SOURCE_IMAGE_DATE 1998 08 16 source image date as yyyy mm dd*
SOURCE_IMAGE_ID "NAPP 10521 100" source image id*
SOURCE_IMAGE_DATE 1998 08 16 source image date as yyyy mm dd*
SOURCE_IMAGE_ID "NAPP 10498 188" source image id*
SOURCE_IMAGE_DATE 1998 08 03 source image date as yyyy mm dd*
SOURCE_IMAGE_ID "NAPP 10533 059" source image id*
SOURCE_IMAGE_DATE 1998 08 31 source image date as yyyy mm dd*
SOURCE_IMAGE_ID "NAPP 10533 060" source image id*
SOURCE_IMAGE_DATE 1998 08 31 source image date as yyyy mm dd*
SOURCE_IMAGE_ID "NAPP 10533 061" source image id*
SOURCE_IMAGE_DATE 1998 08 31 source image date as yyyy mm dd*
SOURCE_DEM_DATE 2000 01 01 source dem date yyyy mm dd*
AGENCY "WESTERN MAPPING CENTER (WMC)" oversight agency*
PRODUCER "SCIENCE APPLICATIONS INTERNATIONAL" producer/contractor*
PRODUCTION_SYSTEM "GIS/MAGIC" production system*
STANDARD_VERSION 1996 12 version of DOQ standard*
METADATA_DATE 2000 12 01 date created or changed, yyyy mm dd*
DATA_FILE_SIZE 47685842 data set size in bytes*
BYTE_COUNT 6218 header byte count* * * * * * * * * * * * * * * * * * * * * * *
END_USGS_HEADER *
