BEGIN_USGS_DOQ_HEADER *
QUADRANGLE_NAME "RACKERBY" 3.45 or 7.5-min. name*
QUADRANT NW quadrant indicator if cell size = 3.75-minutes*
WEST_LONGITUDE -121 22 30.000 signed deg min sec SDDD MM SS.SSS*
EAST_LONGITUDE -121 18 45.000 signed deg min sec SDDD MM SS.SSS*
NORTH_LATITUDE 39 30 0.000 signed deg min sec SDDD MM SS.SSS*
SOUTH_LATITUDE 39 26 15.000 signed deg min sec SDDD MM SS.SSS*
PRODUCTION_DATE 2000 6 28 yyyy mm dd*
RASTER_ORDER LEFT_RIGHT/TOP_BOTTOM video display order*
BAND_ORGANIZATION "SINGLE FILE" single file or BSQ, or BIL or BIP*
BAND_CONTENT BLACK&WHITE black&white or red green blue*
BITS_PER_PIXEL 8 radiometric resolution*
SAMPLES_AND_LINES 6207 7660 number of columns and rows*
HORIZONTAL_DATUM NAD83 primary horizontal datum*
HORIZONTAL_COORDINATE_SYSTEM UTM *
COORDINATE_ZONE 10 coordinate system zone number*
HORIZONTAL_UNITS METERS coordinate system units*
HORIZONTAL_RESOLUTION 1.00 pixel horiz. ground sample distance*
SECONDARY_HORIZONTAL_DATUM NAD27 secondary horizontal datum*
XY_ORIGIN 639322.000 4373929.000 coord. of upper left pixel pri. datum*
SECONDARY_XY_ORIGIN 639417.919 4373734.179 coord upper left pixel sec datum*
NATION US nation code*
STATE CA state fip code*
NW_QUAD_CORNER_XY 639719.514 4373524.978 XY coords. of pri. NW quad corner*
NE_QUAD_CORNER_XY 645093.636 4373623.820 XY coords. of pri. NE quad corner*
SE_QUAD_CORNER_XY 645223.543 4366686.985 XY coords. of pri. SE quad corner*
SW_QUAD_CORNER_XY 639844.606 4366588.185 XY coords. of pri. SW quad corner*
SECONDARY_NW_QUAD_XY 639723.140 4373315.984 XY coords. - sec. NW quad cor.*
SECONDARY_NE_QUAD_XY 645097.401 4373414.828 XY coords. - sec. NE quad cor.*
SECONDARY_SE_QUAD_XY 645227.306 4366478.123 XY coords. - sec. SE quad cor.*
SECONDARY_SW_QUAD_XY 639848.230 4366379.320 XY coords. - sec. SW quad cor.*
RMSE_XY 2.56 doq horiz. accuracy*
IMAGE_SOURCE "BLACK AND WHITE FILM" b&w, cir, natural color, other*
SOURCE_IMAGE_ID "NAPP 10523-101" source image id*
SOURCE_IMAGE_DATE 1998 8 18 source image date as yyyy mm dd*
SOURCE_DEM_DATE 1996 1 1 source dem date yyyy mm dd*
AGENCY "WESTERN MAPPING CENTER (WMC)" agency or agency & contractor*
PRODUCER "WOOLPERT LLP" producer*
PRODUCTION_SYSTEM "INTERGRAPH ISPM, ISIR" production system*
STANDARD_VERSION 1996 12 version of DOQ standard*
METADATA_DATE 2000 6 30 date created or changed, yyyy mm dd*
DATA_FILE_SIZE 47551827 data set size in bytes*
BYTE_COUNT 6207 header byte count* * * * * * * * * * * * * * * * * * * * * * * * * * * * * * * * * * *
END_USGS_HEADER *
