BEGIN_USGS_DOQ_HEADER *
QUADRANGLE_NAME "STRAWBERRY VALLEY" 3.45 or 7.5-min. name*
QUADRANT SE quadrant indicator if cell size = 3.75-minutes*
WEST_LONGITUDE -121 3 45.000 signed deg min sec SDDD MM SS.SSS*
EAST_LONGITUDE -121 0 0.000 signed deg min sec SDDD MM SS.SSS*
NORTH_LATITUDE 39 33 45.000 signed deg min sec SDDD MM SS.SSS*
SOUTH_LATITUDE 39 30 0.000 signed deg min sec SDDD MM SS.SSS*
PRODUCTION_DATE 2000 10 5 yyyy mm dd*
RASTER_ORDER LEFT_RIGHT/TOP_BOTTOM video display order*
BAND_ORGANIZATION "SINGLE FILE" single file or BSQ, or BIL or BIP*
BAND_CONTENT BLACK&WHITE black&white or red green blue*
BITS_PER_PIXEL 8 radiometric resolution*
SAMPLES_AND_LINES 6218 7672 number of columns and rows*
HORIZONTAL_DATUM NAD83 primary horizontal datum*
HORIZONTAL_COORDINATE_SYSTEM UTM *
COORDINATE_ZONE 10 coordinate system zone number*
HORIZONTAL_UNITS METERS coordinate system units*
HORIZONTAL_RESOLUTION 1.00 pixel horiz. ground sample distance*
SECONDARY_HORIZONTAL_DATUM NAD27 secondary horizontal datum*
XY_ORIGIN 666048.000 4381412.000 coord. of upper left pixel pri. datum*
SECONDARY_XY_ORIGIN 666143.752 4381216.948 coord upper left pixel sec datum*
NATION US nation code*
STATE CA state fip code*
NW_QUAD_CORNER_XY 666441.099 4380993.608 XY coords. of pri. NW quad corner*
NE_QUAD_CORNER_XY 671810.576 4381111.168 XY coords. of pri. NE quad corner*
SE_QUAD_CORNER_XY 671964.769 4374174.030 XY coords. of pri. SE quad corner*
SW_QUAD_CORNER_XY 666590.468 4374056.521 XY coords. of pri. SW quad corner*
SECONDARY_NW_QUAD_XY 666445.426 4380784.498 XY coords. - sec. NW quad cor.*
SECONDARY_NE_QUAD_XY 671815.042 4380902.061 XY coords. - sec. NE quad cor.*
SECONDARY_SE_QUAD_XY 671969.232 4373965.052 XY coords. - sec. SE quad cor.*
SECONDARY_SW_QUAD_XY 666594.792 4373847.540 XY coords. - sec. SW quad cor.*
RMSE_XY 4.30 doq horiz. accuracy*
IMAGE_SOURCE "BLACK AND WHITE FILM" b&w, cir, natural color, other*
SOURCE_IMAGE_ID "NAPP 10498 084" source image id*
SOURCE_IMAGE_DATE 1998 08 03 source image date as yyyy mm dd*
SOURCE_IMAGE_ID "NAPP 10498 187" source image id*
SOURCE_IMAGE_DATE 1998 08 03 source image date as yyyy mm dd*
SOURCE_IMAGE_ID "NAPP 10498 186" source image id*
SOURCE_IMAGE_DATE 1998 08 03 source image date as yyyy mm dd*
SOURCE_IMAGE_ID "NAPP 10533 061" source image id*
SOURCE_IMAGE_DATE 1998 08 31 source image date as yyyy mm dd*
SOURCE_IMAGE_ID "NAPP 10498 085" source image id*
SOURCE_IMAGE_DATE 1998 08 03 source image date as yyyy mm dd*
SOURCE_DEM_DATE 2000 01 01 source dem date yyyy mm dd*
AGENCY "WESTERN MAPPING CENTER (WMC)" oversight agency*
PRODUCER "SCIENCE APPLICATIONS INTERNATIONAL" producer/contractor*
PRODUCTION_SYSTEM "GIS/MAGIC" production system*
STANDARD_VERSION 1996 12 version of DOQ standard*
METADATA_DATE 2000 12 01 date created or changed, yyyy mm dd*
DATA_FILE_SIZE 47710714 data set size in bytes*
BYTE_COUNT 6218 header byte count* * * * * * * * * * * * * * * * * * * * * * * * * * *
END_USGS_HEADER *
