BEGIN_USGS_DOQ_HEADER *
QUADRANGLE_NAME "OROVILLE DAM" *
QUADRANT SE *
WEST_LONGITUDE -121 26 15.0 *
EAST_LONGITUDE -121 22 30.0 *
NORTH_LATITUDE 39 33 45.0 *
SOUTH_LATITUDE 39 30 0.0 *
PRODUCTION_DATE 2001 3 14 *
RASTER_ORDER LEFT_RIGHT/TOP_BOTTOM *
BAND_ORGANIZATION "SINGLE FILE" *
BAND_CONTENT BLACK&WHITE *
BITS_PER_PIXEL 8 *
SAMPLES_AND_LINES 6191 7661 *
HORIZONTAL_DATUM NAD83 *
HORIZONTAL_COORDINATE_SYSTEM UTM *
COORDINATE_ZONE 10 *
HORIZONTAL_UNITS METERS *
HORIZONTAL_RESOLUTION 1.0 *
SECONDARY_HORIZONTAL_DATUM NAD27 *
XY_ORIGIN 633830.000 4380770.000 *
SECONDARY_XY_ORIGIN 633925.880 4380575.090 *
NATION US *
STATE CA *
NW_QUAD_CORNER_XY 634224.986 4380366.690 *
NE_QUAD_CORNER_XY 639594.255 4380461.840 *
SE_QUAD_CORNER_XY 639719.514 4373524.978 *
SW_QUAD_CORNER_XY 634345.424 4373429.868 *
SECONDARY_NW_QUAD_XY 634228.475 4380157.564 *
SECONDARY_NE_QUAD_XY 639597.884 4380252.717 *
SECONDARY_SE_QUAD_XY 639723.140 4373315.984 *
SECONDARY_SW_QUAD_XY 634348.911 4373220.871 *
RMSE_XY 1.329 *
IMAGE_SOURCE "Black and White film" *
SOURCE_IMAGE_ID "NAPP 10502-255" *
SOURCE_IMAGE_DATE 1998 08 17 *
SOURCE_DEM_DATE 1970 00 00 *
AGENCY "WESTERN MAPPING CENTER (WMC)" *
PRODUCER "Hammon, Jensen, Wallen & Associates" *
PRODUCTION_SYSTEM "ORTHOVIEW" *
STANDARD_VERSION 1996 12 *
METADATA_DATE 2001 3 14 *
DATA_FILE_SIZE 47435442 *
BYTE_COUNT 6191 * * * * * * * * * * * * * * * * * * * * * * * * * * * * * * * * * * *
END_USGS_HEADER *
