BEGIN_USGS_DOQ_HEADER *
QUADRANGLE_NAME "OROVILLE" *
QUADRANT NW *
WEST_LONGITUDE -121 37 30.0 *
EAST_LONGITUDE -121 33 45.0 *
NORTH_LATITUDE 39 37 30.0 *
SOUTH_LATITUDE 39 33 45.0 *
PRODUCTION_DATE 2001 3 14 *
RASTER_ORDER LEFT_RIGHT/TOP_BOTTOM *
BAND_ORGANIZATION "SINGLE FILE" *
BAND_CONTENT BLACK&WHITE *
BITS_PER_PIXEL 8 *
SAMPLES_AND_LINES 6181 7651 *
HORIZONTAL_DATUM NAD83 *
HORIZONTAL_COORDINATE_SYSTEM UTM *
COORDINATE_ZONE 10 *
HORIZONTAL_UNITS METERS *
HORIZONTAL_RESOLUTION 1.0 *
SECONDARY_HORIZONTAL_DATUM NAD27 *
XY_ORIGIN 617610.000 4387430.000 *
SECONDARY_XY_ORIGIN 617705.897 4387234.902 *
NATION US *
STATE CA *
NW_QUAD_CORNER_XY 618011.238 4387040.421 *
NE_QUAD_CORNER_XY 623375.593 4387124.407 *
SE_QUAD_CORNER_XY 623486.539 4380187.590 *
SW_QUAD_CORNER_XY 618117.357 4380103.641 *
SECONDARY_NW_QUAD_XY 618014.310 4386831.160 *
SECONDARY_NE_QUAD_XY 623378.805 4386915.147 *
SECONDARY_SE_QUAD_XY 623489.748 4379978.460 *
SECONDARY_SW_QUAD_XY 618120.427 4379894.507 *
RMSE_XY 0.761 *
IMAGE_SOURCE "Black and White film" *
SOURCE_IMAGE_ID "NAPP 10510-60" *
SOURCE_IMAGE_DATE 1998 09 14 *
SOURCE_DEM_DATE 1970 00 00 *
AGENCY "WESTERN MAPPING CENTER (WMC)" *
PRODUCER "Hammon, Jensen, Wallen & Associates" *
PRODUCTION_SYSTEM "ORTHOVIEW" *
STANDARD_VERSION 1996 12 *
METADATA_DATE 2001 3 14 *
DATA_FILE_SIZE 47297012 *
BYTE_COUNT 6181 * * * * * * * * * * * * * * * * * * * * * * * * * * * * * * * * * * *
END_USGS_HEADER *
