BEGIN_USGS_DOQ_HEADER *
QUADRANGLE_NAME "NELSON" *
QUADRANT NE *
WEST_LONGITUDE -121 48 45.0 *
EAST_LONGITUDE -121 45 0.0 *
NORTH_LATITUDE 39 37 30.0 *
SOUTH_LATITUDE 39 33 45.0 *
PRODUCTION_DATE 2001 3 8 *
RASTER_ORDER LEFT_RIGHT/TOP_BOTTOM *
BAND_ORGANIZATION "SINGLE FILE" *
BAND_CONTENT BLACK&WHITE *
BITS_PER_PIXEL 8 *
SAMPLES_AND_LINES 6161 7631 *
HORIZONTAL_DATUM NAD83 *
HORIZONTAL_COORDINATE_SYSTEM UTM *
COORDINATE_ZONE 10 *
HORIZONTAL_UNITS METERS *
HORIZONTAL_RESOLUTION 1.0 *
SECONDARY_HORIZONTAL_DATUM NAD27 *
XY_ORIGIN 601520.000 4387190.000 *
SECONDARY_XY_ORIGIN 601615.833 4386994.777 *
NATION US *
STATE CA *
NW_QUAD_CORNER_XY 601918.328 4386810.872 *
NE_QUAD_CORNER_XY 607282.607 4386883.654 *
SE_QUAD_CORNER_XY 607379.074 4379946.939 *
SW_QUAD_CORNER_XY 602009.970 4379874.187 *
SECONDARY_NW_QUAD_XY 601920.981 4386601.604 *
SECONDARY_NE_QUAD_XY 607285.399 4386674.389 *
SECONDARY_SE_QUAD_XY 607381.865 4379737.802 *
SECONDARY_SW_QUAD_XY 602012.621 4379665.048 *
RMSE_XY 0.972 *
IMAGE_SOURCE "Black and White film" *
SOURCE_IMAGE_ID "NAPP 10502-203" *
SOURCE_IMAGE_DATE 1998 08 17 *
SOURCE_DEM_DATE 2000 01 01 *
AGENCY "WESTERN MAPPING CENTER (WMC)" *
PRODUCER "Hammon, Jensen, Wallen & Associates" *
PRODUCTION_SYSTEM "ORTHOVIEW" *
STANDARD_VERSION 1996 12 *
METADATA_DATE 2001 3 8 *
DATA_FILE_SIZE 47020752 *
BYTE_COUNT 6161 * * * * * * * * * * * * * * * * * * * * * * * * * * * * * * * * * *
END_USGS_HEADER *
