BEGIN_USGS_DOQ_HEADER *
QUADRANGLE_NAME "AMERICAN HOUSE" 3.45 or 7.5-min. name*
QUADRANT SE quadrant indicator if cell size = 3.75-minutes*
WEST_LONGITUDE -121 3 45.000 signed deg min sec SDDD MM SS.SSS*
EAST_LONGITUDE -121 0 0.000 signed deg min sec SDDD MM SS.SSS*
NORTH_LATITUDE 39 41 15.000 signed deg min sec SDDD MM SS.SSS*
SOUTH_LATITUDE 39 37 30.000 signed deg min sec SDDD MM SS.SSS*
PRODUCTION_DATE 2000 7 7 yyyy mm dd*
RASTER_ORDER left_right/top_bottom video display order*
BAND_ORGANIZATION "single file" single file or BSQ, or BIL or BIP*
BAND_CONTENT BLACK&WHITE black&white or red green blue*
BITS_PER_PIXEL 8 radiometric resolution*
SAMPLES_AND_LINES 6217 7680 number of columns and rows*
HORIZONTAL_DATUM NAD83 primary horizontal datum*
HORIZONTAL_COORDINATE_SYSTEM UTM *
COORDINATE_ZONE 10 coordinate system zone number*
HORIZONTAL_UNITS meters coordinate system units*
HORIZONTAL_RESOLUTION 1.00 pixel horiz. ground sample distance*
SECONDARY_HORIZONTAL_DATUM NAD27 secondary horizontal datum*
XY_ORIGIN 665745.000 4395291.000 coord. of upper left pixel pri. datum*
SECONDARY_XY_ORIGIN 665840.606 4395095.726 coord upper left pixel sec datum*
NATION US nation code*
STATE CA state fip code*
NW_QUAD_CORNER_XY 666141.765 4394867.983 XY coords. of pri. NW quad corner*
NE_QUAD_CORNER_XY 671501.576 4394985.640 XY coords. of pri. NE quad corner*
SE_QUAD_CORNER_XY 671656.179 4388048.371 XY coords. of pri. SE quad corner*
SW_QUAD_CORNER_XY 666291.531 4387930.763 XY coords. of pri. SW quad corner*
SECONDARY_NW_QUAD_XY 666146.097 4394658.617 XY coords. - sec. NW quad cor.*
SECONDARY_NE_QUAD_XY 671506.048 4394776.277 XY coords. - sec. NE quad cor.*
SECONDARY_SE_QUAD_XY 671660.648 4387839.136 XY coords. - sec. SE quad cor.*
SECONDARY_SW_QUAD_XY 666295.861 4387721.524 XY coords. - sec. SW quad cor.*
RMSE_XY 3.88 doq horiz. accuracy*
IMAGE_SOURCE "BLACK AND WHITE FILM" b&w, cir, natural color, other*
SOURCE_IMAGE_ID "NAPP 10498-088" source image id*
SOURCE_IMAGE_DATE 1998 8 3 source image date as yyyy mm dd*
SOURCE_DEM_DATE 1997 7 1 source dem date yyyy mm dd*
AGENCY "WESTERN MAPPING CENTER (WMC)" oversight agency*
PRODUCER "WOOLPERT LLP" producer/contractor*
PRODUCTION_SYSTEM "INTERGRAPH ISPM, ISIR" production system*
STANDARD_VERSION 1996 12 version of DOQ standard*
METADATA_DATE 2000 7 7 date created or changed, yyyy mm dd*
DATA_FILE_SIZE 47752777 data set size in bytes*
BYTE_COUNT 6217 header byte count* * * * * * * * * * * * * * * * * * * * * * * * * * * * * * * * * * *
END_USGS_HEADER *
