BEGIN_USGS_DOQ_HEADER *
QUADRANGLE_NAME "CASCADE" 3.45 or 7.5-min. name*
QUADRANT SE quadrant indicator if cell size = 3.75-minutes*
WEST_LONGITUDE -121 11 15.000 signed deg min sec SDDD MM SS.SSS*
EAST_LONGITUDE -121 7 30.000 signed deg min sec SDDD MM SS.SSS*
NORTH_LATITUDE 39 41 15.000 signed deg min sec SDDD MM SS.SSS*
SOUTH_LATITUDE 39 37 30.000 signed deg min sec SDDD MM SS.SSS*
PRODUCTION_DATE 2000 6 29 yyyy mm dd*
RASTER_ORDER left_right/top_bottom video display order*
BAND_ORGANIZATION "single file" single file or BSQ, or BIL or BIP*
BAND_CONTENT BLACK&WHITE black&white or red green blue*
BITS_PER_PIXEL 8 radiometric resolution*
SAMPLES_AND_LINES 6207 7673 number of columns and rows*
HORIZONTAL_DATUM NAD83 primary horizontal datum*
HORIZONTAL_COORDINATE_SYSTEM UTM *
COORDINATE_ZONE 10 coordinate system zone number*
HORIZONTAL_UNITS meters coordinate system units*
HORIZONTAL_RESOLUTION 1.00 pixel horiz. ground sample distance*
SECONDARY_HORIZONTAL_DATUM NAD27 secondary horizontal datum*
XY_ORIGIN 655025.000 4395060.000 coord. of upper left pixel pri. datum*
SECONDARY_XY_ORIGIN 655120.622 4394864.890 coord upper left pixel sec datum*
NATION US nation code*
STATE CA state fip code*
NW_QUAD_CORNER_XY 655422.252 4394643.884 XY coords. of pri. NW quad corner*
NE_QUAD_CORNER_XY 660781.990 4394754.065 XY coords. of pri. NE quad corner*
SE_QUAD_CORNER_XY 660926.921 4387816.891 XY coords. of pri. SE quad corner*
SW_QUAD_CORNER_XY 655562.347 4387706.757 XY coords. of pri. SW quad corner*
SECONDARY_NW_QUAD_XY 655426.304 4394434.513 XY coords. - sec. NW quad cor.*
SECONDARY_NE_QUAD_XY 660786.183 4394544.696 XY coords. - sec. NE quad cor.*
SECONDARY_SE_QUAD_XY 660931.111 4387607.650 XY coords. - sec. SE quad cor.*
SECONDARY_SW_QUAD_XY 655566.397 4387497.513 XY coords. - sec. SW quad cor.*
RMSE_XY 4.20 doq horiz. accuracy*
IMAGE_SOURCE "BLACK AND WHITE FILM" b&w, cir, natural color, other*
SOURCE_IMAGE_ID "NAPP 10501-233" source image id*
SOURCE_IMAGE_DATE 1998 8 13 source image date as yyyy mm dd*
SOURCE_DEM_DATE 1995 2 1 source dem date yyyy mm dd*
AGENCY "WESTERN MAPPING CENTER (WMC)" oversight agency*
PRODUCER "WOOLPERT LLP" producer/contractor*
PRODUCTION_SYSTEM "INTERGRAPH ISPM, ISIR" production system*
STANDARD_VERSION 1996 12 version of DOQ standard*
METADATA_DATE 2000 6 29 date created or changed, yyyy mm dd*
DATA_FILE_SIZE 47632518 data set size in bytes*
BYTE_COUNT 6207 header byte count* * * * * * * * * * * * * * * * * * * * * * * * * * * * * * * * * * *
END_USGS_HEADER *
