BEGIN_USGS_DOQ_HEADER *
QUADRANGLE_NAME "ORD FERRY" *
QUADRANT NE *
WEST_LONGITUDE -121 56 15.0 *
EAST_LONGITUDE -121 52 30.0 *
NORTH_LATITUDE 39 45 0.0 *
SOUTH_LATITUDE 39 41 15.0 *
PRODUCTION_DATE 2001 3 8 *
RASTER_ORDER LEFT_RIGHT/TOP_BOTTOM *
BAND_ORGANIZATION "SINGLE FILE" *
BAND_CONTENT BLACK&WHITE *
BITS_PER_PIXEL 8 *
SAMPLES_AND_LINES 6141 7631 *
HORIZONTAL_DATUM NAD83 *
HORIZONTAL_COORDINATE_SYSTEM UTM *
COORDINATE_ZONE 10 *
HORIZONTAL_UNITS METERS *
HORIZONTAL_RESOLUTION 1.0 *
SECONDARY_HORIZONTAL_DATUM NAD27 *
XY_ORIGIN 590630.000 4400920.000 *
SECONDARY_XY_ORIGIN 590725.632 4400724.617 *
NATION US *
STATE CA *
NW_QUAD_CORNER_XY 591025.524 4400549.981 *
NE_QUAD_CORNER_XY 596380.090 4400615.350 *
SE_QUAD_CORNER_XY 596467.138 4393678.550 *
SW_QUAD_CORNER_XY 591107.735 4393613.208 *
SECONDARY_NW_QUAD_XY 591027.901 4400340.456 *
SECONDARY_NE_QUAD_XY 596382.607 4400405.826 *
SECONDARY_SE_QUAD_XY 596469.653 4393469.154 *
SECONDARY_SW_QUAD_XY 591110.110 4393403.810 *
RMSE_XY 1.015 *
IMAGE_SOURCE "Black and White film" *
SOURCE_IMAGE_ID "NAPP 10510-78" *
SOURCE_IMAGE_DATE 1998 09 14 *
SOURCE_DEM_DATE 2000 01 01 *
AGENCY "WESTERN MAPPING CENTER (WMC)" *
PRODUCER "Hammon, Jensen, Wallen & Associates" *
PRODUCTION_SYSTEM "ORTHOVIEW" *
STANDARD_VERSION 1996 12 *
METADATA_DATE 2001 3 8 *
DATA_FILE_SIZE 46868112 *
BYTE_COUNT 6141 * * * * * * * * * * * * * * * * * * * * * * * * * * * * * * * * * *
END_USGS_HEADER *
