BEGIN_USGS_DOQ_HEADER *
QUADRANGLE_NAME "DOGWOOD PEAK" 3.45 or 7.5-min. name*
QUADRANT SW quadrant indicator if cell size = 3.75-minutes*
WEST_LONGITUDE -121 7 30.000 signed deg min sec SDDD MM SS.SSS*
EAST_LONGITUDE -121 3 45.000 signed deg min sec SDDD MM SS.SSS*
NORTH_LATITUDE 39 48 45.000 signed deg min sec SDDD MM SS.SSS*
SOUTH_LATITUDE 39 45 0.000 signed deg min sec SDDD MM SS.SSS*
PRODUCTION_DATE 2000 7 7 yyyy mm dd*
RASTER_ORDER left_right/top_bottom video display order*
BAND_ORGANIZATION "single file" single file or BSQ, or BIL or BIP*
BAND_CONTENT BLACK&WHITE black&white or red green blue*
BITS_PER_PIXEL 8 radiometric resolution*
SAMPLES_AND_LINES 6202 7676 number of columns and rows*
HORIZONTAL_DATUM NAD83 primary horizontal datum*
HORIZONTAL_COORDINATE_SYSTEM UTM *
COORDINATE_ZONE 10 coordinate system zone number*
HORIZONTAL_UNITS meters coordinate system units*
HORIZONTAL_RESOLUTION 1.00 pixel horiz. ground sample distance*
SECONDARY_HORIZONTAL_DATUM NAD27 secondary horizontal datum*
XY_ORIGIN 660095.000 4409048.000 coord. of upper left pixel pri. datum*
SECONDARY_XY_ORIGIN 660190.511 4408852.601 coord upper left pixel sec datum*
NATION US nation code*
STATE CA state fip code*
NW_QUAD_CORNER_XY 660491.553 4408628.612 XY coords. of pri. NW quad corner*
NE_QUAD_CORNER_XY 665841.637 4408742.623 XY coords. of pri. NE quad corner*
SE_QUAD_CORNER_XY 665991.800 4401805.270 XY coords. of pri. SE quad corner*
SW_QUAD_CORNER_XY 660636.868 4401691.305 XY coords. of pri. SW quad corner*
SECONDARY_NW_QUAD_XY 660495.750 4408418.990 XY coords. - sec. NW quad cor.*
SECONDARY_NE_QUAD_XY 665845.974 4408533.004 XY coords. - sec. NE quad cor.*
SECONDARY_SE_QUAD_XY 665996.135 4401595.777 XY coords. - sec. SE quad cor.*
SECONDARY_SW_QUAD_XY 660641.062 4401481.809 XY coords. - sec. SW quad cor.*
RMSE_XY 4.06 doq horiz. accuracy*
IMAGE_SOURCE "BLACK AND WHITE FILM" b&w, cir, natural color, other*
SOURCE_IMAGE_ID "NAPP 10498-179" source image id*
SOURCE_IMAGE_DATE 1998 8 3 source image date as yyyy mm dd*
SOURCE_DEM_DATE 1997 7 1 source dem date yyyy mm dd*
AGENCY "WESTERN MAPPING CENTER (WMC)" oversight agency*
PRODUCER "WOOLPERT LLP" producer/contractor*
PRODUCTION_SYSTEM "INTERGRAPH ISPM, ISIR" production system*
STANDARD_VERSION 1996 12 version of DOQ standard*
METADATA_DATE 2000 7 7 date created or changed, yyyy mm dd*
DATA_FILE_SIZE 47612754 data set size in bytes*
BYTE_COUNT 6202 header byte count* * * * * * * * * * * * * * * * * * * * * * * * * * * * * * * * * * *
END_USGS_HEADER *
