BEGIN_USGS_DOQ_HEADER *
QUADRANGLE_NAME "HASKINS VALLEY" 3.45 or 7.5-min. name*
QUADRANT NW quadrant indicator if cell size = 3.75-minutes*
WEST_LONGITUDE -121 15 0.000 signed deg min sec SDDD MM SS.SSS*
EAST_LONGITUDE -121 11 15.000 signed deg min sec SDDD MM SS.SSS*
NORTH_LATITUDE 39 52 30.000 signed deg min sec SDDD MM SS.SSS*
SOUTH_LATITUDE 39 48 45.000 signed deg min sec SDDD MM SS.SSS*
PRODUCTION_DATE 2000 6 29 yyyy mm dd*
RASTER_ORDER left_right/top_bottom video display order*
BAND_ORGANIZATION "single file" single file or BSQ, or BIL or BIP*
BAND_CONTENT BLACK&WHITE black&white or red green blue*
BITS_PER_PIXEL 8 radiometric resolution*
SAMPLES_AND_LINES 6188 7669 number of columns and rows*
HORIZONTAL_DATUM NAD83 primary horizontal datum*
HORIZONTAL_COORDINATE_SYSTEM UTM *
COORDINATE_ZONE 10 coordinate system zone number*
HORIZONTAL_UNITS meters coordinate system units*
HORIZONTAL_RESOLUTION 1.00 pixel horiz. ground sample distance*
SECONDARY_HORIZONTAL_DATUM NAD27 secondary horizontal datum*
XY_ORIGIN 649259.000 4415761.000 coord. of upper left pixel pri. datum*
SECONDARY_XY_ORIGIN 649354.548 4415565.662 coord upper left pixel sec datum*
NATION US nation code*
STATE CA state fip code*
NW_QUAD_CORNER_XY 649655.690 4415349.101 XY coords. of pri. NW quad corner*
NE_QUAD_CORNER_XY 655000.852 4415455.672 XY coords. of pri. NE quad corner*
SE_QUAD_CORNER_XY 655141.504 4408518.342 XY coords. of pri. SE quad corner*
SW_QUAD_CORNER_XY 649791.488 4408411.813 XY coords. of pri. SW quad corner*
SECONDARY_NW_QUAD_XY 649659.610 4415139.349 XY coords. - sec. NW quad cor.*
SECONDARY_NE_QUAD_XY 655004.912 4415245.923 XY coords. - sec. NE quad cor.*
SECONDARY_SE_QUAD_XY 655145.561 4408308.718 XY coords. - sec. SE quad cor.*
SECONDARY_SW_QUAD_XY 649795.406 4408202.186 XY coords. - sec. SW quad cor.*
RMSE_XY 3.87 doq horiz. accuracy*
IMAGE_SOURCE "BLACK AND WHITE FILM" b&w, cir, natural color, other*
SOURCE_IMAGE_ID "NAPP 10504-093" source image id*
SOURCE_IMAGE_DATE 1998 8 22 source image date as yyyy mm dd*
SOURCE_DEM_DATE 1997 7 1 source dem date yyyy mm dd*
AGENCY "WESTERN MAPPING CENTER (WMC)" oversight agency*
PRODUCER "WOOLPERT LLP" producer/contractor*
PRODUCTION_SYSTEM "INTERGRAPH ISPM, ISIR" production system*
STANDARD_VERSION 1996 12 version of DOQ standard*
METADATA_DATE 2000 6 29 date created or changed, yyyy mm dd*
DATA_FILE_SIZE 47461960 data set size in bytes*
BYTE_COUNT 6188 header byte count* * * * * * * * * * * * * * * * * * * * * * * * * * * * * * * * * * *
END_USGS_HEADER *
