BEGIN_USGS_DOQ_HEADER *
QUADRANGLE_NAME "PARADISE EAST" 3.45 or 7.5-min. name*
QUADRANT SW quadrant indicator if cell size = 3.75-minutes*
WEST_LONGITUDE -121 37 30.000 signed deg min sec SDDD MM SS.SSS*
EAST_LONGITUDE -121 33 45.000 signed deg min sec SDDD MM SS.SSS*
NORTH_LATITUDE 39 48 45.000 signed deg min sec SDDD MM SS.SSS*
SOUTH_LATITUDE 39 45 0.000 signed deg min sec SDDD MM SS.SSS*
PRODUCTION_DATE 2000 6 24 yyyy mm dd*
RASTER_ORDER left_right/top_bottom video display order*
BAND_ORGANIZATION "single file" single file or BSQ, or BIL or BIP*
BAND_CONTENT BLACK&WHITE black&white or red green blue*
BITS_PER_PIXEL 8 radiometric resolution*
SAMPLES_AND_LINES 6165 7647 number of columns and rows*
HORIZONTAL_DATUM NAD83 primary horizontal datum*
HORIZONTAL_COORDINATE_SYSTEM UTM *
COORDINATE_ZONE 10 coordinate system zone number*
HORIZONTAL_UNITS meters coordinate system units*
HORIZONTAL_RESOLUTION 1.00 pixel horiz. ground sample distance*
SECONDARY_HORIZONTAL_DATUM NAD27 secondary horizontal datum*
XY_ORIGIN 617294.000 4408241.000 coord. of upper left pixel pri. datum*
SECONDARY_XY_ORIGIN 617389.760 4408045.706 coord upper left pixel sec datum*
NATION US nation code*
STATE CA state fip code*
NW_QUAD_CORNER_XY 617692.036 4407851.187 XY coords. of pri. NW quad corner*
NE_QUAD_CORNER_XY 623041.874 4407935.276 XY coords. of pri. NE quad corner*
SE_QUAD_CORNER_XY 623153.261 4400998.249 XY coords. of pri. SE quad corner*
SW_QUAD_CORNER_XY 617798.578 4400914.195 XY coords. of pri. SW quad corner*
SECONDARY_NW_QUAD_XY 617695.114 4407641.545 XY coords. - sec. NW quad cor.*
SECONDARY_NE_QUAD_XY 623045.092 4407725.636 XY coords. - sec. NE quad cor.*
SECONDARY_SE_QUAD_XY 623156.477 4400788.735 XY coords. - sec. SE quad cor.*
SECONDARY_SW_QUAD_XY 617801.654 4400704.679 XY coords. - sec. SW quad cor.*
RMSE_XY 2.81 doq horiz. accuracy*
IMAGE_SOURCE "BLACK AND WHITE FILM" b&w, cir, natural color, other*
SOURCE_IMAGE_ID "NAPP 10510-054" source image id*
SOURCE_IMAGE_DATE 1998 9 14 source image date as yyyy mm dd*
SOURCE_IMAGE_ID "NAPP 10510-018" source image id*
SOURCE_IMAGE_DATE 1998 9 14 source image date as yyyy mm dd*
SOURCE_DEM_DATE 1997 7 1 source dem date yyyy mm dd*
AGENCY "WESTERN MAPPING CENTER (WMC)" oversight agency*
PRODUCER "WOOLPERT LLP" producer/contractor*
PRODUCTION_SYSTEM "INTERGRAPH ISPM, ISIR" production system*
STANDARD_VERSION 1996 12 version of DOQ standard*
METADATA_DATE 2000 6 24 date created or changed, yyyy mm dd*
DATA_FILE_SIZE 47149920 data set size in bytes*
BYTE_COUNT 6165 header byte count* * * * * * * * * * * * * * * * * * * * * * * * * * * * * * * * *
END_USGS_HEADER *
