BEGIN_USGS_DOQ_HEADER *
QUADRANGLE_NAME "MEADOW VALLEY" 3.45 or 7.5-min. name*
QUADRANT SW quadrant indicator if cell size = 3.75-minutes*
WEST_LONGITUDE -121 7 30.000 signed deg min sec SDDD MM SS.SSS*
EAST_LONGITUDE -121 3 45.000 signed deg min sec SDDD MM SS.SSS*
NORTH_LATITUDE 39 56 15.000 signed deg min sec SDDD MM SS.SSS*
SOUTH_LATITUDE 39 52 30.000 signed deg min sec SDDD MM SS.SSS*
PRODUCTION_DATE 2000 7 7 yyyy mm dd*
RASTER_ORDER left_right/top_bottom video display order*
BAND_ORGANIZATION "single file" single file or BSQ, or BIL or BIP*
BAND_CONTENT BLACK&WHITE black&white or red green blue*
BITS_PER_PIXEL 8 radiometric resolution*
SAMPLES_AND_LINES 6193 7677 number of columns and rows*
HORIZONTAL_DATUM NAD83 primary horizontal datum*
HORIZONTAL_COORDINATE_SYSTEM UTM *
COORDINATE_ZONE 10 coordinate system zone number*
HORIZONTAL_UNITS meters coordinate system units*
HORIZONTAL_RESOLUTION 1.00 pixel horiz. ground sample distance*
SECONDARY_HORIZONTAL_DATUM NAD27 secondary horizontal datum*
XY_ORIGIN 659804.000 4422923.000 coord. of upper left pixel pri. datum*
SECONDARY_XY_ORIGIN 659899.452 4422727.395 coord upper left pixel sec datum*
NATION US nation code*
STATE CA state fip code*
NW_QUAD_CORNER_XY 660200.349 4422503.427 XY coords. of pri. NW quad corner*
NE_QUAD_CORNER_XY 665540.716 4422617.528 XY coords. of pri. NE quad corner*
SE_QUAD_CORNER_XY 665691.276 4415680.042 XY coords. of pri. SE quad corner*
SW_QUAD_CORNER_XY 660346.047 4415565.986 XY coords. of pri. SW quad corner*
SECONDARY_NW_QUAD_XY 660204.551 4422293.556 XY coords. - sec. NW quad cor.*
SECONDARY_NE_QUAD_XY 665545.059 4422407.661 XY coords. - sec. NE quad cor.*
SECONDARY_SE_QUAD_XY 665695.616 4415470.299 XY coords. - sec. SE quad cor.*
SECONDARY_SW_QUAD_XY 660350.247 4415356.239 XY coords. - sec. SW quad cor.*
RMSE_XY 3.73 doq horiz. accuracy*
IMAGE_SOURCE "BLACK AND WHITE FILM" b&w, cir, natural color, other*
SOURCE_IMAGE_ID "NAPP 10498-175" source image id*
SOURCE_IMAGE_DATE 1998 8 3 source image date as yyyy mm dd*
SOURCE_IMAGE_ID "NAPP 10503-122" source image id*
SOURCE_IMAGE_DATE 1998 8 22 source image date as yyyy mm dd*
SOURCE_DEM_DATE 1997 7 1 source dem date yyyy mm dd*
AGENCY "WESTERN MAPPING CENTER (WMC)" oversight agency*
PRODUCER "WOOLPERT LLP" producer/contractor*
PRODUCTION_SYSTEM "INTERGRAPH ISPM, ISIR" production system*
STANDARD_VERSION 1996 12 version of DOQ standard*
METADATA_DATE 2000 7 7 date created or changed, yyyy mm dd*
DATA_FILE_SIZE 47549854 data set size in bytes*
BYTE_COUNT 6193 header byte count* * * * * * * * * * * * * * * * * * * * * * * * * * * * * * * * *
END_USGS_HEADER *
