BEGIN_USGS_DOQ_HEADER *
QUADRANGLE_NAME "KIMSHEW POINT" 3.45 or 7.5-min. name*
QUADRANT SE quadrant indicator if cell size = 3.75-minutes*
WEST_LONGITUDE -121 26 15.000 signed deg min sec SDDD MM SS.SSS*
EAST_LONGITUDE -121 22 30.000 signed deg min sec SDDD MM SS.SSS*
NORTH_LATITUDE 39 56 15.000 signed deg min sec SDDD MM SS.SSS*
SOUTH_LATITUDE 39 52 30.000 signed deg min sec SDDD MM SS.SSS*
PRODUCTION_DATE 2000 6 27 yyyy mm dd*
RASTER_ORDER left_right/top_bottom video display order*
BAND_ORGANIZATION "single file" single file or BSQ, or BIL or BIP*
BAND_CONTENT BLACK&WHITE black&white or red green blue*
BITS_PER_PIXEL 8 radiometric resolution*
SAMPLES_AND_LINES 6170 7658 number of columns and rows*
HORIZONTAL_DATUM NAD83 primary horizontal datum*
HORIZONTAL_COORDINATE_SYSTEM UTM *
COORDINATE_ZONE 10 coordinate system zone number*
HORIZONTAL_UNITS meters coordinate system units*
HORIZONTAL_RESOLUTION 1.00 pixel horiz. ground sample distance*
SECONDARY_HORIZONTAL_DATUM NAD27 secondary horizontal datum*
XY_ORIGIN 633101.000 4422390.000 coord. of upper left pixel pri. datum*
SECONDARY_XY_ORIGIN 633196.608 4422194.662 coord upper left pixel sec datum*
NATION US nation code*
STATE CA state fip code*
NW_QUAD_CORNER_XY 633498.995 4421989.077 XY coords. of pri. NW quad corner*
NE_QUAD_CORNER_XY 638839.205 4422084.460 XY coords. of pri. NE quad corner*
SE_QUAD_CORNER_XY 638965.462 4415147.185 XY coords. of pri. SE quad corner*
SW_QUAD_CORNER_XY 633620.393 4415051.839 XY coords. of pri. SW quad corner*
SECONDARY_NW_QUAD_XY 633502.497 4421779.193 XY coords. - sec. NW quad cor.*
SECONDARY_NE_QUAD_XY 638842.847 4421874.579 XY coords. - sec. NE quad cor.*
SECONDARY_SE_QUAD_XY 638969.102 4414937.427 XY coords. - sec. SE quad cor.*
SECONDARY_SW_QUAD_XY 633623.893 4414842.079 XY coords. - sec. SW quad cor.*
RMSE_XY 4.94 doq horiz. accuracy*
IMAGE_SOURCE "BLACK AND WHITE FILM" b&w, cir, natural color, other*
SOURCE_IMAGE_ID "NAPP 10502-267" source image id*
SOURCE_IMAGE_DATE 1998 8 17 source image date as yyyy mm dd*
SOURCE_IMAGE_ID "NAPP 10508-245" source image id*
SOURCE_IMAGE_DATE 1998 9 13 source image date as yyyy mm dd*
SOURCE_DEM_DATE 1997 6 1 source dem date yyyy mm dd*
AGENCY "WESTERN MAPPING CENTER (WMC)" oversight agency*
PRODUCER "WOOLPERT LLP" producer/contractor*
PRODUCTION_SYSTEM "INTERGRAPH ISPM, ISIR" production system*
STANDARD_VERSION 1996 12 version of DOQ standard*
METADATA_DATE 2000 6 27 date created or changed, yyyy mm dd*
DATA_FILE_SIZE 47256030 data set size in bytes*
BYTE_COUNT 6170 header byte count* * * * * * * * * * * * * * * * * * * * * * * * * * * * * * * * *
END_USGS_HEADER *
