BEGIN_USGS_DOQ_HEADER *
QUADRANGLE_NAME "STIRLING CITY" 3.45 or 7.5-min. name*
QUADRANT NE quadrant indicator if cell size = 3.75-minutes*
WEST_LONGITUDE -121 33 45.000 signed deg min sec SDDD MM SS.SSS*
EAST_LONGITUDE -121 30 0.000 signed deg min sec SDDD MM SS.SSS*
NORTH_LATITUDE 40 0 0.000 signed deg min sec SDDD MM SS.SSS*
SOUTH_LATITUDE 39 56 15.000 signed deg min sec SDDD MM SS.SSS*
PRODUCTION_DATE 2000 6 24 yyyy mm dd*
RASTER_ORDER left_right/top_bottom video display order*
BAND_ORGANIZATION "single file" single file or BSQ, or BIL or BIP*
BAND_CONTENT BLACK&WHITE black&white or red green blue*
BITS_PER_PIXEL 8 radiometric resolution*
SAMPLES_AND_LINES 6155 7650 number of columns and rows*
HORIZONTAL_DATUM NAD83 primary horizontal datum*
HORIZONTAL_COORDINATE_SYSTEM UTM *
COORDINATE_ZONE 10 coordinate system zone number*
HORIZONTAL_UNITS meters coordinate system units*
HORIZONTAL_RESOLUTION 1.00 pixel horiz. ground sample distance*
SECONDARY_HORIZONTAL_DATUM NAD27 secondary horizontal datum*
XY_ORIGIN 622309.000 4429140.000 coord. of upper left pixel pri. datum*
SECONDARY_XY_ORIGIN 622404.645 4428944.544 coord upper left pixel sec datum*
NATION US nation code*
STATE CA state fip code*
NW_QUAD_CORNER_XY 622706.832 4428746.777 XY coords. of pri. NW quad corner*
NE_QUAD_CORNER_XY 628042.122 4428834.709 XY coords. of pri. NE quad corner*
SE_QUAD_CORNER_XY 628158.814 4421897.437 XY coords. of pri. SE quad corner*
SW_QUAD_CORNER_XY 622818.660 4421809.539 XY coords. of pri. SW quad corner*
SECONDARY_NW_QUAD_XY 622710.056 4428536.765 XY coords. - sec. NW quad cor.*
SECONDARY_NE_QUAD_XY 628045.486 4428624.699 XY coords. - sec. NE quad cor.*
SECONDARY_SE_QUAD_XY 628162.176 4421687.551 XY coords. - sec. SE quad cor.*
SECONDARY_SW_QUAD_XY 622821.881 4421599.651 XY coords. - sec. SW quad cor.*
RMSE_XY 4.49 doq horiz. accuracy*
IMAGE_SOURCE "BLACK AND WHITE FILM" b&w, cir, natural color, other*
SOURCE_IMAGE_ID "NAPP 10510-024" source image id*
SOURCE_IMAGE_DATE 1998 9 14 source image date as yyyy mm dd*
SOURCE_DEM_DATE 1997 7 1 source dem date yyyy mm dd*
AGENCY "WESTERN MAPPING CENTER (WMC)" oversight agency*
PRODUCER "WOOLPERT LLP" producer/contractor*
PRODUCTION_SYSTEM "INTERGRAPH ISPM, ISIR" production system*
STANDARD_VERSION 1996 12 version of DOQ standard*
METADATA_DATE 2000 6 24 date created or changed, yyyy mm dd*
DATA_FILE_SIZE 47091905 data set size in bytes*
BYTE_COUNT 6155 header byte count* * * * * * * * * * * * * * * * * * * * * * * * * * * * * * * * * *
END_USGS_HEADER *
