BEGIN_USGS_DOQ_HEADER *
QUADRANGLE_NAME "CAMPBELL MOUND" 3.45 or 7.5-min. name*
QUADRANT SW quadrant indicator if cell size = 3.75-minutes*
WEST_LONGITUDE -121 52 30.000 signed deg min sec SDDD MM SS.SSS*
EAST_LONGITUDE -121 48 45.000 signed deg min sec SDDD MM SS.SSS*
NORTH_LATITUDE 39 56 15.000 signed deg min sec SDDD MM SS.SSS*
SOUTH_LATITUDE 39 52 30.000 signed deg min sec SDDD MM SS.SSS*
PRODUCTION_DATE 2000 6 26 yyyy mm dd*
RASTER_ORDER left_right/top_bottom video display order*
BAND_ORGANIZATION "single file" single file or BSQ, or BIL or BIP*
BAND_CONTENT BLACK&WHITE black&white or red green blue*
BITS_PER_PIXEL 8 radiometric resolution*
SAMPLES_AND_LINES 6136 7632 number of columns and rows*
HORIZONTAL_DATUM NAD83 primary horizontal datum*
HORIZONTAL_COORDINATE_SYSTEM UTM *
COORDINATE_ZONE 10 coordinate system zone number*
HORIZONTAL_UNITS meters coordinate system units*
HORIZONTAL_RESOLUTION 1.00 pixel horiz. ground sample distance*
SECONDARY_HORIZONTAL_DATUM NAD27 secondary horizontal datum*
XY_ORIGIN 595720.000 4421801.000 coord. of upper left pixel pri. datum*
SECONDARY_XY_ORIGIN 595815.740 4421605.387 coord upper left pixel sec datum*
NATION US nation code*
STATE CA state fip code*
NW_QUAD_CORNER_XY 596118.255 4421426.181 XY coords. of pri. NW quad corner*
NE_QUAD_CORNER_XY 601458.291 4421495.369 XY coords. of pri. NE quad corner*
SE_QUAD_CORNER_XY 601550.541 4414558.326 XY coords. of pri. SE quad corner*
SW_QUAD_CORNER_XY 596205.649 4414489.165 XY coords. of pri. SW quad corner*
SECONDARY_NW_QUAD_XY 596120.777 4421216.282 XY coords. - sec. NW quad cor.*
SECONDARY_NE_QUAD_XY 601460.952 4421285.472 XY coords. - sec. NE quad cor.*
SECONDARY_SE_QUAD_XY 601553.201 4414348.553 XY coords. - sec. SE quad cor.*
SECONDARY_SW_QUAD_XY 596208.168 4414279.390 XY coords. - sec. SW quad cor.*
RMSE_XY 4.08 doq horiz. accuracy*
IMAGE_SOURCE "BLACK AND WHITE FILM" b&w, cir, natural color, other*
SOURCE_IMAGE_ID "NAPP 10502-186" source image id*
SOURCE_IMAGE_DATE 1998 8 17 source image date as yyyy mm dd*
SOURCE_DEM_DATE 1997 7 1 source dem date yyyy mm dd*
AGENCY "WESTERN MAPPING CENTER (WMC)" oversight agency*
PRODUCER "WOOLPERT LLP" producer/contractor*
PRODUCTION_SYSTEM "INTERGRAPH ISPM, ISIR" production system*
STANDARD_VERSION 1996 12 version of DOQ standard*
METADATA_DATE 2000 6 26 date created or changed, yyyy mm dd*
DATA_FILE_SIZE 46836088 data set size in bytes*
BYTE_COUNT 6136 header byte count* * * * * * * * * * * * * * * * * * * * * * * * * * * * * * * * * *
END_USGS_HEADER *
