BEGIN_USGS_DOQ_HEADER *
QUADRANGLE_NAME "ARBUCKLE" *
QUADRANT SW *
WEST_LONGITUDE -122 7 30.0 *
EAST_LONGITUDE -122 3 45.0 *
NORTH_LATITUDE 39 3 45.0 *
SOUTH_LATITUDE 39 0 0.0 *
PRODUCTION_DATE 2001 3 19 *
RASTER_ORDER LEFT_RIGHT/TOP_BOTTOM *
BAND_ORGANIZATION "SINGLE FILE" *
BAND_CONTENT BLACK&WHITE *
BITS_PER_PIXEL 8 *
SAMPLES_AND_LINES 6191 7621 *
HORIZONTAL_DATUM NAD83 *
HORIZONTAL_COORDINATE_SYSTEM UTM *
COORDINATE_ZONE 10 *
HORIZONTAL_UNITS METERS *
HORIZONTAL_RESOLUTION 1.0 *
SECONDARY_HORIZONTAL_DATUM NAD27 *
XY_ORIGIN 575300.000 4324440.000 *
SECONDARY_XY_ORIGIN 575395.557 4324244.535 *
NATION US *
STATE CA *
NW_QUAD_CORNER_XY 575701.694 4324076.593 *
NE_QUAD_CORNER_XY 581109.055 4324130.495 *
SE_QUAD_CORNER_XY 581180.531 4317194.571 *
SW_QUAD_CORNER_XY 575768.404 4317140.695 *
SECONDARY_NW_QUAD_XY 575703.638 4323868.503 *
SECONDARY_NE_QUAD_XY 581111.137 4323922.407 *
SECONDARY_SE_QUAD_XY 581182.611 4316986.619 *
SECONDARY_SW_QUAD_XY 575770.346 4316932.741 *
RMSE_XY 0.686 *
IMAGE_SOURCE "Black and White film" *
SOURCE_IMAGE_ID "NAPP 10529-53" *
SOURCE_IMAGE_DATE 1998 08 25 *
SOURCE_DEM_DATE 1973 00 00 *
AGENCY "WESTERN MAPPING CENTER (WMC)" *
PRODUCER "Hammon, Jensen, Wallen & Associates" *
PRODUCTION_SYSTEM "ORTHOVIEW" *
STANDARD_VERSION 1996 12 *
METADATA_DATE 2001 3 19 *
DATA_FILE_SIZE 47187802 *
BYTE_COUNT 6191 * * * * * * * * * * * * * * * * * * * * * * * * * * * * * * * * * * *
END_USGS_HEADER *
