BEGIN_USGS_DOQ_HEADER *
QUADRANGLE_NAME "CORTINA CREEK" *
QUADRANT SE *
WEST_LONGITUDE -122 11 15.0 *
EAST_LONGITUDE -122 7 30.0 *
NORTH_LATITUDE 39 3 45.0 *
SOUTH_LATITUDE 39 0 0.0 *
PRODUCTION_DATE 2001 3 19 *
RASTER_ORDER LEFT_RIGHT/TOP_BOTTOM *
BAND_ORGANIZATION "SINGLE FILE" *
BAND_CONTENT BLACK&WHITE *
BITS_PER_PIXEL 8 *
SAMPLES_AND_LINES 6171 7611 *
HORIZONTAL_DATUM NAD83 *
HORIZONTAL_COORDINATE_SYSTEM UTM *
COORDINATE_ZONE 10 *
HORIZONTAL_UNITS METERS *
HORIZONTAL_RESOLUTION 1.0 *
SECONDARY_HORIZONTAL_DATUM NAD27 *
XY_ORIGIN 569900.000 4324380.000 *
SECONDARY_XY_ORIGIN 569995.539 4324184.510 *
NATION US *
STATE CA *
NW_QUAD_CORNER_XY 570294.352 4324026.409 *
NE_QUAD_CORNER_XY 575701.694 4324076.593 *
SE_QUAD_CORNER_XY 575768.404 4317140.695 *
SW_QUAD_CORNER_XY 570356.296 4317090.534 *
SECONDARY_NW_QUAD_XY 570296.157 4323818.318 *
SECONDARY_NE_QUAD_XY 575703.638 4323868.503 *
SECONDARY_SE_QUAD_XY 575770.346 4316932.741 *
SECONDARY_SW_QUAD_XY 570358.099 4316882.579 *
RMSE_XY 0.544 *
IMAGE_SOURCE "Black and White film" *
SOURCE_IMAGE_ID "NAPP 10529-96" *
SOURCE_IMAGE_DATE 1998 08 25 *
SOURCE_DEM_DATE 1973 00 00 *
AGENCY "WESTERN MAPPING CENTER (WMC)" *
PRODUCER "Hammon, Jensen, Wallen & Associates" *
PRODUCTION_SYSTEM "ORTHOVIEW" *
STANDARD_VERSION 1996 12 *
METADATA_DATE 2001 3 19 *
DATA_FILE_SIZE 46973652 *
BYTE_COUNT 6171 * * * * * * * * * * * * * * * * * * * * * * * * * * * * * * * * * * *
END_USGS_HEADER *
