BEGIN_USGS_DOQ_HEADER *
QUADRANGLE_NAME "SALT CANYON" 3.45 or 7.5-min. name*
QUADRANT SW quadrant indicator if cell size = 3.75-minutes*
WEST_LONGITUDE -122 22 30.000 signed deg min sec SDDD MM SS.SSS*
EAST_LONGITUDE -122 18 45.000 signed deg min sec SDDD MM SS.SSS*
NORTH_LATITUDE 39 3 45.000 signed deg min sec SDDD MM SS.SSS*
SOUTH_LATITUDE 39 0 0.000 signed deg min sec SDDD MM SS.SSS*
PRODUCTION_DATE 1998 8 18 yyyy mm dd*
RASTER_ORDER LEFT_RIGHT/TOP_BOTTOM video display order*
BAND_ORGANIZATION "SINGLE FILE" single file or BSQ, or BIL or BIP*
BAND_CONTENT BLACK&WHITE black&white or red green blue*
BITS_PER_PIXEL 8 radiometric resolution*
SAMPLES_AND_LINES 6157 7590 number of columns and rows*
HORIZONTAL_DATUM NAD83 primary horizontal datum*
HORIZONTAL_COORDINATE_SYSTEM UTM *
COORDINATE_ZONE 10 coordinate system zone number*
HORIZONTAL_UNITS METERS coordinate system units*
HORIZONTAL_RESOLUTION 1.00 pixel horiz. ground sample distance*
SECONDARY_HORIZONTAL_DATUM NAD27 secondary horizontal datum*
XY_ORIGIN 553677.000 4324238.000 coord. of upper left pixel pri. datum*
SECONDARY_XY_ORIGIN 553772.446 4324042.357 coord upper left pixel sec datum*
NATION US nation code*
STATE CA state fip code*
NW_QUAD_CORNER_XY 554072.425 4323898.165 XY coords. of pri. NW quad corner*
NE_QUAD_CORNER_XY 559479.719 4323937.196 XY coords. of pri. NE quad corner*
SE_QUAD_CORNER_XY 559532.131 4317001.362 XY coords. of pri. SE quad corner*
SW_QUAD_CORNER_XY 554120.072 4316962.349 XY coords. of pri. SW quad corner*
SECONDARY_NW_QUAD_XY 554073.813 4323690.071 XY coords. - sec. NW quad cor.*
SECONDARY_NE_QUAD_XY 559481.245 4323729.102 XY coords. - sec. NE quad cor.*
SECONDARY_SE_QUAD_XY 559533.657 4316793.404 XY coords. - sec. SE quad cor.*
SECONDARY_SW_QUAD_XY 554121.459 4316754.391 XY coords. - sec. SW quad cor.*
RMSE_XY 2.80 doq horiz. accuracy*
IMAGE_SOURCE "BLACK AND WHITE FILM" b&w, cir, natural color, other*
SOURCE_IMAGE_ID "NAPP 6359 179" source image id*
SOURCE_IMAGE_DATE 1993 07 06 source image date as yyyy mm dd*
IMAGE_SOURCE "BLACK AND WHITE FILM" b&w, cir, natural color, other*
SOURCE_IMAGE_ID "NAPP 6360 188" source image id*
SOURCE_IMAGE_DATE 1993 07 10 source image date as yyyy mm dd*
IMAGE_SOURCE "BLACK AND WHITE FILM" b&w, cir, natural color, other*
SOURCE_IMAGE_ID "NAPP 6359 180" source image id*
SOURCE_IMAGE_DATE 1993 07 06 source image date as yyyy mm dd*
IMAGE_SOURCE "BLACK AND WHITE FILM" b&w, cir, natural color, other*
SOURCE_IMAGE_ID "NAPP 6359 178" source image id*
SOURCE_IMAGE_DATE 1993 07 06 source image date as yyyy mm dd*
IMAGE_SOURCE "BLACK AND WHITE FILM" b&w, cir, natural color, other*
SOURCE_IMAGE_ID "NAPP 6359 148" source image id*
SOURCE_IMAGE_DATE 1993 07 06 source image date as yyyy mm dd*
SOURCE_DEM_DATE 1989 00 00 source dem date yyyy mm dd*
AGENCY "WESTERN MAPPING CENTER (WMC)" oversight agency*
PRODUCER "SCIENCE APPLICATIONS INTERNATIONAL" producer/contractor*
PRODUCTION_SYSTEM "GIS/MAGIC" production system*
STANDARD_VERSION 1996 12 version of DOQ standard*
METADATA_DATE 1998 08 21 date created or changed, yyyy mm dd*
DATA_FILE_SIZE 46737787 data set size in bytes*
BYTE_COUNT 6157 header byte count* * * * * * * * * * * * * * * * * * * * * *
END_USGS_HEADER *
