BEGIN_USGS_DOQ_HEADER *
QUADRANGLE_NAME "WILBUR SPRINGS" 3.45 or 7.5-min. name*
QUADRANT NW quadrant indicator if cell size = 3.75-minutes*
WEST_LONGITUDE -122 30 0.000 signed deg min sec SDDD MM SS.SSS*
EAST_LONGITUDE -122 26 15.000 signed deg min sec SDDD MM SS.SSS*
NORTH_LATITUDE 39 7 30.000 signed deg min sec SDDD MM SS.SSS*
SOUTH_LATITUDE 39 3 45.000 signed deg min sec SDDD MM SS.SSS*
PRODUCTION_DATE 1998 8 17 yyyy mm dd*
RASTER_ORDER LEFT_RIGHT/TOP_BOTTOM video display order*
BAND_ORGANIZATION "SINGLE FILE" single file or BSQ, or BIL or BIP*
BAND_CONTENT BLACK&WHITE black&white or red green blue*
BITS_PER_PIXEL 8 radiometric resolution*
SAMPLES_AND_LINES 6143 7583 number of columns and rows*
HORIZONTAL_DATUM NAD83 primary horizontal datum*
HORIZONTAL_COORDINATE_SYSTEM UTM *
COORDINATE_ZONE 10 coordinate system zone number*
HORIZONTAL_UNITS METERS coordinate system units*
HORIZONTAL_RESOLUTION 1.00 pixel horiz. ground sample distance*
SECONDARY_HORIZONTAL_DATUM NAD27 secondary horizontal datum*
XY_ORIGIN 542824.000 4331099.000 coord. of upper left pixel pri. datum*
SECONDARY_XY_ORIGIN 542919.453 4330903.313 coord upper left pixel sec datum*
NATION US nation code*
STATE CA state fip code*
NW_QUAD_CORNER_XY 543219.707 4330767.116 XY coords. of pri. NW quad corner*
NE_QUAD_CORNER_XY 548622.204 4330798.726 XY coords. of pri. NE quad corner*
SE_QUAD_CORNER_XY 548665.144 4323862.852 XY coords. of pri. SE quad corner*
SW_QUAD_CORNER_XY 543257.875 4323831.257 XY coords. of pri. SW quad corner*
SECONDARY_NW_QUAD_XY 543220.818 4330558.885 XY coords. - sec. NW quad cor.*
SECONDARY_NE_QUAD_XY 548623.454 4330590.495 XY coords. - sec. NE quad cor.*
SECONDARY_SE_QUAD_XY 548666.393 4323654.757 XY coords. - sec. SE quad cor.*
SECONDARY_SW_QUAD_XY 543258.986 4323623.161 XY coords. - sec. SW quad cor.*
RMSE_XY 2.50 doq horiz. accuracy*
IMAGE_SOURCE "BLACK AND WHITE FILM" b&w, cir, natural color, other*
SOURCE_IMAGE_ID "NAPP 6360 126" source image id*
SOURCE_IMAGE_DATE 1993 07 10 source image date as yyyy mm dd*
IMAGE_SOURCE "BLACK AND WHITE FILM" b&w, cir, natural color, other*
SOURCE_IMAGE_ID "NAPP 6360 127" source image id*
SOURCE_IMAGE_DATE 1993 07 10 source image date as yyyy mm dd*
IMAGE_SOURCE "BLACK AND WHITE FILM" b&w, cir, natural color, other*
SOURCE_IMAGE_ID "NAPP 6360 125" source image id*
SOURCE_IMAGE_DATE 1993 07 10 source image date as yyyy mm dd*
SOURCE_DEM_DATE 1989 00 00 source dem date yyyy mm dd*
AGENCY "WESTERN MAPPING CENTER (WMC)" oversight agency*
PRODUCER "SCIENCE APPLICATIONS INTERNATIONAL" producer/contractor*
PRODUCTION_SYSTEM "GIS/MAGIC" production system*
STANDARD_VERSION 1996 12 version of DOQ standard*
METADATA_DATE 1998 08 21 date created or changed, yyyy mm dd*
DATA_FILE_SIZE 46588512 data set size in bytes*
BYTE_COUNT 6143 header byte count* * * * * * * * * * * * * * * * * * * * * * * * * * * *
END_USGS_HEADER *
