BEGIN_USGS_DOQ_HEADER *
QUADRANGLE_NAME "LUCERNE" 3.45 or 7.5-min. name*
QUADRANT NE quadrant indicator if cell size = 3.75-minutes*
WEST_LONGITUDE -122 48 45.000 signed deg min sec SDDD MM SS.SSS*
EAST_LONGITUDE -122 45 0.000 signed deg min sec SDDD MM SS.SSS*
NORTH_LATITUDE 39 7 30.000 signed deg min sec SDDD MM SS.SSS*
SOUTH_LATITUDE 39 3 45.000 signed deg min sec SDDD MM SS.SSS*
PRODUCTION_DATE 1996 8 1 yyyy mm dd*
RASTER_ORDER LEFT_RIGHT/TOP_BOTTOM video display order*
BAND_ORGANIZATION "SINGLE FILE" single file or BSQ, or BIL or BIP*
BAND_CONTENT BLACK&WHITE black&white or red green blue*
BITS_PER_PIXEL 8 radiometric resolution*
SAMPLES_AND_LINES 6150 7590 number of columns and rows*
HORIZONTAL_DATUM NAD83 primary horizontal datum*
HORIZONTAL_COORDINATE_SYSTEM UTM *
COORDINATE_ZONE 10 coordinate system zone number*
HORIZONTAL_UNITS METERS coordinate system units*
HORIZONTAL_RESOLUTION 1.00 pixel horiz. ground sample distance*
SECONDARY_HORIZONTAL_DATUM NAD27 secondary horizontal datum*
XY_ORIGIN 515790.000 4330980.000 coord. of upper left pixel pri. datum*
SECONDARY_XY_ORIGIN 515885.735 4330783.917 coord upper left pixel sec datum*
NATION US nation code*
STATE CA state fip code*
NW_QUAD_CORNER_XY 516207.354 4330664.851 XY coords. of pri. NW quad corner*
NE_QUAD_CORNER_XY 521609.811 4330677.866 XY coords. of pri. NE quad corner*
SE_QUAD_CORNER_XY 521628.895 4323742.048 XY coords. of pri. SE quad corner*
SW_QUAD_CORNER_XY 516221.666 4323729.039 XY coords. of pri. SW quad corner*
SECONDARY_NW_QUAD_XY 516207.770 4330456.617 XY coords. - sec. NW quad cor.*
SECONDARY_NE_QUAD_XY 521610.367 4330469.633 XY coords. - sec. NE quad cor.*
SECONDARY_SE_QUAD_XY 521629.450 4323533.950 XY coords. - sec. SE quad cor.*
SECONDARY_SW_QUAD_XY 516222.083 4323520.940 XY coords. - sec. SW quad cor.*
RMSE_XY 2.90 doq horiz. accuracy*
IMAGE_SOURCE "BLACK AND WHITE FILM" b&w, cir, natural color, other*
SOURCE_IMAGE_ID "NAPP 6361 240" source image id*
SOURCE_IMAGE_DATE 1993 7 11 source image date as yyyy mm dd*
SOURCE_DEM_DATE 1996 8 1 source dem date yyyy mm dd*
AGENCY "WESTERN MAPPING CENTER (WMC)" oversight agency*
PRODUCER "Analytical Surveys" producer/contractor*
PRODUCTION_SYSTEM "ORBIT OR_RECTIFY V.5.2" production system*
STANDARD_VERSION 1996 12 version of DOQ standard*
METADATA_DATE 1997 7 23 date created or changed, yyyy mm dd*
DATA_FILE_SIZE 46684650 data set size in bytes*
BYTE_COUNT 6150 header byte count* * * * * * * * * * * * * * * * * * * * * * * * * * * * * * * * * *
END_USGS_HEADER *
