BEGIN_USGS_DOQ_HEADER *
QUADRANGLE_NAME "LUCERNE" *
QUADRANT SE *
WEST_LONGITUDE -122 48 45.000 *
EAST_LONGITUDE -122 45 0.000 *
NORTH_LATITUDE 39 3 45.000 *
SOUTH_LATITUDE 39 0 0.000 *
PRODUCTION_DATE 2000 11 25 *
RASTER_ORDER LEFT_RIGHT/TOP_BOTTOM *
BAND_ORGANIZATION "SINGLE FILE" *
BAND_CONTENT BLACK&WHITE *
BITS_PER_PIXEL 8 *
SAMPLES_AND_LINES 6122 7560 *
HORIZONTAL_DATUM NAD83 *
HORIZONTAL_COORDINATE_SYSTEM UTM *
COORDINATE_ZONE 10 *
HORIZONTAL_UNITS METERS *
HORIZONTAL_RESOLUTION 1.0 *
SECONDARY_HORIZONTAL_DATUM NAD27 *
XY_ORIGIN 515826.239 4324042.048 *
SECONDARY_XY_ORIGIN 515922.087 4323845.890 *
NATION US *
STATE CA *
NW_QUAD_CORNER_XY 516221.666 4323729.039 *
NE_QUAD_CORNER_XY 521628.895 4323742.048 *
SE_QUAD_CORNER_XY 521647.953 4316806.305 *
SW_QUAD_CORNER_XY 516235.960 4316793.302 *
SECONDARY_NW_QUAD_XY 516222.086 4323520.940 *
SECONDARY_NE_QUAD_XY 521629.453 4323533.950 *
SECONDARY_SE_QUAD_XY 521648.511 4316598.342 *
SECONDARY_SW_QUAD_XY 516236.380 4316585.339 *
RMSE_XY 0.80 *
IMAGE_SOURCE "BLACK AND WHITE FILM" *
SOURCE_IMAGE_ID "NAPP 10530 109" *
SOURCE_IMAGE_DATE 1998 8 26 *
SOURCE_IMAGE_ID "NAPP 10530 108" *
SOURCE_IMAGE_DATE 1998 8 26 *
SOURCE_IMAGE_ID "NAPP 10530 110" *
SOURCE_IMAGE_DATE 1998 8 26 *
SOURCE_IMAGE_ID "NAPP 10527 205" *
SOURCE_IMAGE_DATE 1998 8 23 *
SOURCE_IMAGE_ID "NAPP 10527 206" *
SOURCE_IMAGE_DATE 1998 8 23 *
SOURCE_IMAGE_ID "NAPP 10527 207" *
SOURCE_IMAGE_DATE 1998 8 23 *
SOURCE_DEM_DATE 2000 0 0 *
AGENCY "WESTERN MAPPING CENTER (WMC)" *
PRODUCER "USDA FS GEOSPATIAL SERVICE AND TECHNOLOGY CENTER" *
PRODUCTION_SYSTEM "ORBIT OR_RECTIFY V.5.2" *
STANDARD_VERSION 1996 12 *
METADATA_DATE 2000 11 25 *
DATA_FILE_SIZE 46288442 *
BYTE_COUNT 6122 * * * * * * * * * * * * * * * * * * * * * * * *
END_USGS_HEADER *
