BEGIN_USGS_DOQ_HEADER *
QUADRANGLE_NAME "COLUSA" *
QUADRANT NW *
WEST_LONGITUDE -122 7 30.0 *
EAST_LONGITUDE -122 3 45.0 *
NORTH_LATITUDE 39 15 0.0 *
SOUTH_LATITUDE 39 11 15.0 *
PRODUCTION_DATE 2001 3 19 *
RASTER_ORDER LEFT_RIGHT/TOP_BOTTOM *
BAND_ORGANIZATION "SINGLE FILE" *
BAND_CONTENT BLACK&WHITE *
BITS_PER_PIXEL 8 *
SAMPLES_AND_LINES 6171 7611 *
HORIZONTAL_DATUM NAD83 *
HORIZONTAL_COORDINATE_SYSTEM UTM *
COORDINATE_ZONE 10 *
HORIZONTAL_UNITS METERS *
HORIZONTAL_RESOLUTION 1.0 *
SECONDARY_HORIZONTAL_DATUM NAD27 *
XY_ORIGIN 575100.000 4345240.000 *
SECONDARY_XY_ORIGIN 575195.595 4345044.775 *
NATION US *
STATE CA *
NW_QUAD_CORNER_XY 575501.024 4344884.726 *
NE_QUAD_CORNER_XY 580894.048 4344938.702 *
SE_QUAD_CORNER_XY 580965.814 4338002.560 *
SW_QUAD_CORNER_XY 575568.005 4337948.609 *
SECONDARY_NW_QUAD_XY 575502.971 4344676.234 *
SECONDARY_NE_QUAD_XY 580896.135 4344730.211 *
SECONDARY_SE_QUAD_XY 580967.899 4337794.203 *
SECONDARY_SW_QUAD_XY 575569.950 4337740.250 *
RMSE_XY 0.515 *
IMAGE_SOURCE "Black and White film" *
SOURCE_IMAGE_ID "NAPP 10529-47" *
SOURCE_IMAGE_DATE 1998 08 25 *
SOURCE_DEM_DATE 1991 00 00 *
AGENCY "WESTERN MAPPING CENTER (WMC)" *
PRODUCER "Hammon, Jensen, Wallen & Associates" *
PRODUCTION_SYSTEM "ORTHOVIEW" *
STANDARD_VERSION 1996 12 *
METADATA_DATE 2001 3 19 *
DATA_FILE_SIZE 46973652 *
BYTE_COUNT 6171 * * * * * * * * * * * * * * * * * * * * * * * * * * * * * * * * * * *
END_USGS_HEADER *
