BEGIN_USGS_DOQ_HEADER *
QUADRANGLE_NAME "WILLIAMS" *
QUADRANT SW *
WEST_LONGITUDE -122 15 0.0 *
EAST_LONGITUDE -122 11 15.0 *
NORTH_LATITUDE 39 11 15.0 *
SOUTH_LATITUDE 39 7 30.0 *
PRODUCTION_DATE 2001 3 19 *
RASTER_ORDER LEFT_RIGHT/TOP_BOTTOM *
BAND_ORGANIZATION "SINGLE FILE" *
BAND_CONTENT BLACK&WHITE *
BITS_PER_PIXEL 8 *
SAMPLES_AND_LINES 6171 7601 *
HORIZONTAL_DATUM NAD83 *
HORIZONTAL_COORDINATE_SYSTEM UTM *
COORDINATE_ZONE 10 *
HORIZONTAL_UNITS METERS *
HORIZONTAL_RESOLUTION 1.0 *
SECONDARY_HORIZONTAL_DATUM NAD27 *
XY_ORIGIN 564370.000 4338200.000 *
SECONDARY_XY_ORIGIN 564465.502 4338004.603 *
NATION US *
STATE CA *
NW_QUAD_CORNER_XY 564772.439 4337851.871 *
NE_QUAD_CORNER_XY 570170.213 4337898.379 *
SE_QUAD_CORNER_XY 570232.325 4330962.358 *
SW_QUAD_CORNER_XY 564829.772 4330915.871 *
SECONDARY_NW_QUAD_XY 564774.107 4337643.510 *
SECONDARY_NE_QUAD_XY 570172.020 4337690.019 *
SECONDARY_SE_QUAD_XY 570234.130 4330754.132 *
SECONDARY_SW_QUAD_XY 564831.439 4330707.643 *
RMSE_XY 0.564 *
IMAGE_SOURCE "Black and White film" *
SOURCE_IMAGE_ID "NAPP 10529-123" *
SOURCE_IMAGE_DATE 1998 08 25 *
SOURCE_DEM_DATE 1973 00 00 *
AGENCY "WESTERN MAPPING CENTER (WMC)" *
PRODUCER "Hammon, Jensen, Wallen & Associates" *
PRODUCTION_SYSTEM "ORTHOVIEW" *
STANDARD_VERSION 1996 12 *
METADATA_DATE 2001 3 19 *
DATA_FILE_SIZE 46911942 *
BYTE_COUNT 6171 * * * * * * * * * * * * * * * * * * * * * * * * * * * * * * * * * * *
END_USGS_HEADER *
