BEGIN_USGS_DOQ_HEADER *
QUADRANGLE_NAME "MANOR SLOUGH" *
QUADRANT SW *
WEST_LONGITUDE -122 22 30.0 *
EAST_LONGITUDE -122 18 45.0 *
NORTH_LATITUDE 39 11 15.0 *
SOUTH_LATITUDE 39 7 30.0 *
PRODUCTION_DATE 2001 3 19 *
RASTER_ORDER LEFT_RIGHT/TOP_BOTTOM *
BAND_ORGANIZATION "SINGLE FILE" *
BAND_CONTENT BLACK&WHITE *
BITS_PER_PIXEL 8 *
SAMPLES_AND_LINES 6151 7591 *
HORIZONTAL_DATUM NAD83 *
HORIZONTAL_COORDINATE_SYSTEM UTM *
COORDINATE_ZONE 10 *
HORIZONTAL_UNITS METERS *
HORIZONTAL_RESOLUTION 1.0 *
SECONDARY_HORIZONTAL_DATUM NAD27 *
XY_ORIGIN 553580.000 4338110.000 *
SECONDARY_XY_ORIGIN 553675.517 4337914.500 *
NATION US *
STATE CA *
NW_QUAD_CORNER_XY 553976.937 4337770.018 *
NE_QUAD_CORNER_XY 559374.681 4337809.084 *
SE_QUAD_CORNER_XY 559427.235 4330873.103 *
SW_QUAD_CORNER_XY 554024.713 4330834.055 *
SECONDARY_NW_QUAD_XY 553978.326 4337561.654 *
SECONDARY_NE_QUAD_XY 559376.210 4337600.721 *
SECONDARY_SE_QUAD_XY 559428.763 4330664.875 *
SECONDARY_SW_QUAD_XY 554026.102 4330625.825 *
RMSE_XY 1.009 *
IMAGE_SOURCE "Black and White film" *
SOURCE_IMAGE_ID "NAPP 10529-189" *
SOURCE_IMAGE_DATE 1998 08 25 *
SOURCE_DEM_DATE 1973 00 00 *
AGENCY "WESTERN MAPPING CENTER (WMC)" *
PRODUCER "Hammon, Jensen, Wallen & Associates" *
PRODUCTION_SYSTEM "ORTHOVIEW" *
STANDARD_VERSION 1996 12 *
METADATA_DATE 2001 3 19 *
DATA_FILE_SIZE 46698392 *
BYTE_COUNT 6151 * * * * * * * * * * * * * * * * * * * * * * * * * * * * * * * * * *
END_USGS_HEADER *
