BEGIN_USGS_DOQ_HEADER *
QUADRANGLE_NAME "HOUGH SPRINGS" *
QUADRANT SW *
WEST_LONGITUDE -122 37 30.000 *
EAST_LONGITUDE -122 33 45.000 *
NORTH_LATITUDE 39 11 15.000 *
SOUTH_LATITUDE 39 7 30.000 *
PRODUCTION_DATE 2000 11 25 *
RASTER_ORDER LEFT_RIGHT/TOP_BOTTOM *
BAND_ORGANIZATION "SINGLE FILE" *
BAND_CONTENT BLACK&WHITE *
BITS_PER_PIXEL 8 *
SAMPLES_AND_LINES 6126 7573 *
HORIZONTAL_DATUM NAD83 *
HORIZONTAL_COORDINATE_SYSTEM UTM *
COORDINATE_ZONE 10 *
HORIZONTAL_UNITS METERS *
HORIZONTAL_RESOLUTION 1.0 *
SECONDARY_HORIZONTAL_DATUM NAD27 *
XY_ORIGIN 531991.313 4337974.645 *
SECONDARY_XY_ORIGIN 532086.917 4337778.934 *
NATION US *
STATE CA *
NW_QUAD_CORNER_XY 532386.078 4337650.962 *
NE_QUAD_CORNER_XY 537783.778 4337675.145 *
SE_QUAD_CORNER_XY 537817.220 4330739.225 *
SW_QUAD_CORNER_XY 532414.743 4330715.053 *
SECONDARY_NW_QUAD_XY 532386.915 4337442.595 *
SECONDARY_NE_QUAD_XY 537784.753 4337466.779 *
SECONDARY_SE_QUAD_XY 537818.196 4330530.993 *
SECONDARY_SW_QUAD_XY 532415.580 4330506.820 *
RMSE_XY 0.80 *
IMAGE_SOURCE "BLACK AND WHITE FILM" *
SOURCE_IMAGE_ID "NAPP 10530 55" *
SOURCE_IMAGE_DATE 1998 8 26 *
SOURCE_IMAGE_ID "NAPP 10530 54" *
SOURCE_IMAGE_DATE 1998 8 26 *
SOURCE_IMAGE_ID "NAPP 10530 56" *
SOURCE_IMAGE_DATE 1998 8 26 *
SOURCE_IMAGE_ID "NAPP 10530 13" *
SOURCE_IMAGE_DATE 1998 8 26 *
SOURCE_IMAGE_ID "NAPP 10530 12" *
SOURCE_IMAGE_DATE 1998 8 26 *
SOURCE_IMAGE_ID "NAPP 10530 11" *
SOURCE_IMAGE_DATE 1998 8 26 *
SOURCE_DEM_DATE 2000 0 0 *
AGENCY "WESTERN MAPPING CENTER (WMC)" *
PRODUCER "USDA FS GEOSPATIAL SERVICE AND TECHNOLOGY CENTER" *
PRODUCTION_SYSTEM "ORBIT OR_RECTIFY V.5.2" *
STANDARD_VERSION 1996 12 *
METADATA_DATE 2000 11 25 *
DATA_FILE_SIZE 46398324 *
BYTE_COUNT 6126 * * * * * * * * * * * * * * * * * * * * * * * *
END_USGS_HEADER *
