BEGIN_USGS_DOQ_HEADER *
QUADRANGLE_NAME "BARTLETT SPRINGS" 3.45 or 7.5-min. name*
QUADRANT NW quadrant indicator if cell size = 3.75-minutes*
WEST_LONGITUDE -122 45 0.000 signed deg min sec SDDD MM SS.SSS*
EAST_LONGITUDE -122 41 15.000 signed deg min sec SDDD MM SS.SSS*
NORTH_LATITUDE 39 15 0.000 signed deg min sec SDDD MM SS.SSS*
SOUTH_LATITUDE 39 11 15.000 signed deg min sec SDDD MM SS.SSS*
PRODUCTION_DATE 1996 8 1 yyyy mm dd*
RASTER_ORDER LEFT_RIGHT/TOP_BOTTOM video display order*
BAND_ORGANIZATION "SINGLE FILE" single file or BSQ, or BIL or BIP*
BAND_CONTENT BLACK&WHITE black&white or red green blue*
BITS_PER_PIXEL 8 radiometric resolution*
SAMPLES_AND_LINES 6150 7590 number of columns and rows*
HORIZONTAL_DATUM NAD83 primary horizontal datum*
HORIZONTAL_COORDINATE_SYSTEM UTM *
COORDINATE_ZONE 10 coordinate system zone number*
HORIZONTAL_UNITS METERS coordinate system units*
HORIZONTAL_RESOLUTION 1.00 pixel horiz. ground sample distance*
SECONDARY_HORIZONTAL_DATUM NAD27 secondary horizontal datum*
XY_ORIGIN 521160.000 4344870.000 coord. of upper left pixel pri. datum*
SECONDARY_XY_ORIGIN 521255.622 4344674.312 coord upper left pixel sec datum*
NATION US nation code*
STATE CA state fip code*
NW_QUAD_CORNER_XY 521571.566 4344549.725 XY coords. of pri. NW quad corner*
NE_QUAD_CORNER_XY 526964.467 4344566.474 XY coords. of pri. NE quad corner*
SE_QUAD_CORNER_XY 526988.386 4337630.500 XY coords. of pri. SE quad corner*
SW_QUAD_CORNER_XY 521590.701 4337613.758 XY coords. of pri. SW quad corner*
SECONDARY_NW_QUAD_XY 521572.122 4344341.224 XY coords. - sec. NW quad cor.*
SECONDARY_NE_QUAD_XY 526965.162 4344357.973 XY coords. - sec. NE quad cor.*
SECONDARY_SE_QUAD_XY 526989.081 4337422.133 XY coords. - sec. SE quad cor.*
SECONDARY_SW_QUAD_XY 521591.257 4337405.390 XY coords. - sec. SW quad cor.*
RMSE_XY 3.90 doq horiz. accuracy*
IMAGE_SOURCE "BLACK AND WHITE FILM" b&w, cir, natural color, other*
SOURCE_IMAGE_ID "NAPP 6361 056" source image id*
SOURCE_IMAGE_DATE 1993 7 10 source image date as yyyy mm dd*
SOURCE_DEM_DATE 1996 8 1 source dem date yyyy mm dd*
AGENCY "WESTERN MAPPING CENTER (WMC)" oversight agency*
PRODUCER "Analytical Surveys" producer/contractor*
PRODUCTION_SYSTEM "ORBIT OR_RECTIFY V.5.2" production system*
STANDARD_VERSION 1996 12 version of DOQ standard*
METADATA_DATE 1997 7 23 date created or changed, yyyy mm dd*
DATA_FILE_SIZE 46684650 data set size in bytes*
BYTE_COUNT 6150 header byte count* * * * * * * * * * * * * * * * * * * * * * * * * * * * * * * * * *
END_USGS_HEADER *
