BEGIN_USGS_DOQ_HEADER *
QUADRANGLE_NAME "BARTLETT SPRINGS" *
QUADRANT NW *
WEST_LONGITUDE -122 45 0.000 *
EAST_LONGITUDE -122 41 15.000 *
NORTH_LATITUDE 39 15 0.000 *
SOUTH_LATITUDE 39 11 15.000 *
PRODUCTION_DATE 2000 11 25 *
RASTER_ORDER LEFT_RIGHT/TOP_BOTTOM *
BAND_ORGANIZATION "SINGLE FILE" *
BAND_CONTENT BLACK&WHITE *
BITS_PER_PIXEL 8 *
SAMPLES_AND_LINES 6112 7565 *
HORIZONTAL_DATUM NAD83 *
HORIZONTAL_COORDINATE_SYSTEM UTM *
COORDINATE_ZONE 10 *
HORIZONTAL_UNITS METERS *
HORIZONTAL_RESOLUTION 1.0 *
SECONDARY_HORIZONTAL_DATUM NAD27 *
XY_ORIGIN 521176.505 4344865.974 *
SECONDARY_XY_ORIGIN 521272.128 4344670.281 *
NATION US *
STATE CA *
NW_QUAD_CORNER_XY 521571.566 4344549.725 *
NE_QUAD_CORNER_XY 526964.467 4344566.474 *
SE_QUAD_CORNER_XY 526988.386 4337630.500 *
SW_QUAD_CORNER_XY 521590.701 4337613.758 *
SECONDARY_NW_QUAD_XY 521572.125 4344341.223 *
SECONDARY_NE_QUAD_XY 526965.165 4344357.974 *
SECONDARY_SE_QUAD_XY 526989.084 4337422.133 *
SECONDARY_SW_QUAD_XY 521591.260 4337405.390 *
RMSE_XY 0.80 *
IMAGE_SOURCE "BLACK AND WHITE FILM" *
SOURCE_IMAGE_ID "NAPP 10530 145" *
SOURCE_IMAGE_DATE 1998 8 26 *
SOURCE_IMAGE_ID "NAPP 10530 144" *
SOURCE_IMAGE_DATE 1998 8 26 *
SOURCE_IMAGE_ID "NAPP 10530 146" *
SOURCE_IMAGE_DATE 1998 8 26 *
SOURCE_IMAGE_ID "NAPP 10530 188" *
SOURCE_IMAGE_DATE 1998 8 26 *
SOURCE_IMAGE_ID "NAPP 10530 189" *
SOURCE_IMAGE_DATE 1998 8 26 *
SOURCE_IMAGE_ID "NAPP 10530 190" *
SOURCE_IMAGE_DATE 1998 8 26 *
SOURCE_DEM_DATE 2000 0 0 *
AGENCY "WESTERN MAPPING CENTER (WMC)" *
PRODUCER "USDA FS GEOSPATIAL SERVICE AND TECHNOLOGY CENTER" *
PRODUCTION_SYSTEM "ORBIT OR_RECTIFY V.5.2" *
STANDARD_VERSION 1996 12 *
METADATA_DATE 2000 11 25 *
DATA_FILE_SIZE 46243392 *
BYTE_COUNT 6112 * * * * * * * * * * * * * * * * * * * * * * * *
END_USGS_HEADER *
