BEGIN_USGS_DOQ_HEADER *
QUADRANGLE_NAME "BARTLETT MOUNTAIN" *
QUADRANT SW *
WEST_LONGITUDE -122 52 30.000 *
EAST_LONGITUDE -122 48 45.000 *
NORTH_LATITUDE 39 11 15.000 *
SOUTH_LATITUDE 39 7 30.000 *
PRODUCTION_DATE 2000 11 25 *
RASTER_ORDER LEFT_RIGHT/TOP_BOTTOM *
BAND_ORGANIZATION "SINGLE FILE" *
BAND_CONTENT BLACK&WHITE *
BITS_PER_PIXEL 8 *
SAMPLES_AND_LINES 6108 7557 *
HORIZONTAL_DATUM NAD83 *
HORIZONTAL_COORDINATE_SYSTEM UTM *
COORDINATE_ZONE 10 *
HORIZONTAL_UNITS METERS *
HORIZONTAL_RESOLUTION 1.0 *
SECONDARY_HORIZONTAL_DATUM NAD27 *
XY_ORIGIN 510399.849 4337900.237 *
SECONDARY_XY_ORIGIN 510495.626 4337704.229 *
NATION US *
STATE CA *
NW_QUAD_CORNER_XY 510795.345 4337591.436 *
NE_QUAD_CORNER_XY 516193.021 4337600.737 *
SE_QUAD_CORNER_XY 516207.354 4330664.851 *
SW_QUAD_CORNER_XY 510804.900 4330655.554 *
SECONDARY_NW_QUAD_XY 510795.627 4337383.067 *
SECONDARY_NE_QUAD_XY 516193.442 4337392.368 *
SECONDARY_SE_QUAD_XY 516207.774 4330456.616 *
SECONDARY_SW_QUAD_XY 510805.181 4330447.319 *
RMSE_XY 0.80 *
IMAGE_SOURCE "BLACK AND WHITE FILM" *
SOURCE_IMAGE_ID "NAPP 10530 184" *
SOURCE_IMAGE_DATE 1998 8 26 *
SOURCE_IMAGE_ID "NAPP 10530 185" *
SOURCE_IMAGE_DATE 1998 8 26 *
SOURCE_IMAGE_ID "NAPP 10530 183" *
SOURCE_IMAGE_DATE 1998 8 26 *
SOURCE_IMAGE_ID "NAPP 10536 13" *
SOURCE_IMAGE_DATE 1998 9 11 *
SOURCE_IMAGE_ID "NAPP 10536 12" *
SOURCE_IMAGE_DATE 1998 9 11 *
SOURCE_IMAGE_ID "NAPP 10536 11" *
SOURCE_IMAGE_DATE 1998 9 11 *
SOURCE_DEM_DATE 2000 0 0 *
AGENCY "WESTERN MAPPING CENTER (WMC)" *
PRODUCER "USDA FS GEOSPATIAL SERVICE AND TECHNOLOGY CENTER" *
PRODUCTION_SYSTEM "ORBIT OR_RECTIFY V.5.2" *
STANDARD_VERSION 1996 12 *
METADATA_DATE 2000 11 25 *
DATA_FILE_SIZE 46164264 *
BYTE_COUNT 6108 * * * * * * * * * * * * * * * * * * * * * * * *
END_USGS_HEADER *
