BEGIN_USGS_DOQ_HEADER *
QUADRANGLE_NAME "UPPER LAKE" *
QUADRANT NE *
WEST_LONGITUDE -122 56 15.000 *
EAST_LONGITUDE -122 52 30.000 *
NORTH_LATITUDE 39 15 0.000 *
SOUTH_LATITUDE 39 11 15.000 *
PRODUCTION_DATE 2001 4 17 *
RASTER_ORDER LEFT_RIGHT/TOP_BOTTOM *
BAND_ORGANIZATION "SINGLE FILE" *
BAND_CONTENT BLACK&WHITE *
BITS_PER_PIXEL 8 *
SAMPLES_AND_LINES 6098 7554 *
HORIZONTAL_DATUM NAD83 *
HORIZONTAL_COORDINATE_SYSTEM UTM *
COORDINATE_ZONE 10 *
HORIZONTAL_UNITS METERS *
HORIZONTAL_RESOLUTION 1.0 *
SECONDARY_HORIZONTAL_DATUM NAD27 *
XY_ORIGIN 504997.281 4344827.392 *
SECONDARY_XY_ORIGIN 505093.033 4344631.395 *
NATION US *
STATE CA *
NW_QUAD_CORNER_XY 505392.888 4344521.809 *
NE_QUAD_CORNER_XY 510785.778 4344527.392 *
SE_QUAD_CORNER_XY 510795.345 4337591.436 *
SW_QUAD_CORNER_XY 505397.672 4337585.855 *
SECONDARY_NW_QUAD_XY 505393.030 4344313.307 *
SECONDARY_NE_QUAD_XY 510786.059 4344318.890 *
SECONDARY_SE_QUAD_XY 510795.627 4337383.067 *
SECONDARY_SW_QUAD_XY 505397.814 4337377.486 *
RMSE_XY 0.80 *
IMAGE_SOURCE "BLACK AND WHITE FILM" *
SOURCE_IMAGE_ID "NAPP 10530 164" *
SOURCE_IMAGE_DATE 1998 8 26 *
SOURCE_IMAGE_ID "NAPP 10530 165" *
SOURCE_IMAGE_DATE 1998 8 26 *
SOURCE_IMAGE_ID "NAPP 10530 163" *
SOURCE_IMAGE_DATE 1998 8 26 *
SOURCE_IMAGE_ID "NAPP 10530 77" *
SOURCE_IMAGE_DATE 1998 8 26 *
SOURCE_IMAGE_ID "NAPP 10530 76" *
SOURCE_IMAGE_DATE 1998 8 26 *
SOURCE_IMAGE_ID "NAPP 10530 75" *
SOURCE_IMAGE_DATE 1998 8 26 *
SOURCE_DEM_DATE 2000 0 0 *
AGENCY "WESTERN MAPPING CENTER (WMC)" *
PRODUCER "USDA FS GEOSPATIAL SERVICE AND TECHNOLOGY CENTER" *
PRODUCTION_SYSTEM "ORBIT OR_RECTIFY V.5.2" *
STANDARD_VERSION 1996 12 *
METADATA_DATE 2000 11 25 *
DATA_FILE_SIZE 46070390 *
BYTE_COUNT 6098 * * * * * * * * * * * * * * * * * * * * * * * *
END_USGS_HEADER *
